BEGIN:VCALENDAR
VERSION:2.0
PRODID:-//Faith Mission - ECPv5.4.0.2//NONSGML v1.0//EN
CALSCALE:GREGORIAN
METHOD:PUBLISH
X-WR-CALNAME:Faith Mission
X-ORIGINAL-URL:https://faithmission.org
X-WR-CALDESC:Events for Faith Mission
BEGIN:VTIMEZONE
TZID:Europe/London
BEGIN:DAYLIGHT
TZOFFSETFROM:+0000
TZOFFSETTO:+0100
TZNAME:BST
DTSTART:20220327T010000
END:DAYLIGHT
BEGIN:STANDARD
TZOFFSETFROM:+0100
TZOFFSETTO:+0000
TZNAME:GMT
DTSTART:20221030T010000
END:STANDARD
END:VTIMEZONE
BEGIN:VEVENT
DTSTART;TZID=Europe/London:20220425T200000
DTEND;TZID=Europe/London:20220425T210000
DTSTAMP:20260426T044454
CREATED:20220406T150313Z
LAST-MODIFIED:20220406T150313Z
UID:7399-1650916800-1650920400@faithmission.org
SUMMARY:Acton Conference 2022
DESCRIPTION:Monday 25 April\nTaking Part: Keith & Karen Lindsay\nJoin us for Bible Ministry\, Updates of FM Work\, Fellowship with God’s People
URL:https://faithmission.org/event/acton-conference-2022/
LOCATION:Poyntzpass Baptist Church\, Blackbridge Rd\, Poyntzpass\, Newry\, BT35 6QN
CATEGORIES:General,Irish Border District
ATTACH;FMTTYPE=image/jpeg:https://faithmission.org/wp-content/uploads/2022/01/bible_event1.jpg
END:VEVENT
END:VCALENDAR