BEGIN:VCALENDAR
VERSION:2.0
PRODID:-//Faith Mission - ECPv5.4.0.2//NONSGML v1.0//EN
CALSCALE:GREGORIAN
METHOD:PUBLISH
X-WR-CALNAME:Faith Mission
X-ORIGINAL-URL:https://faithmission.org
X-WR-CALDESC:Events for Faith Mission
BEGIN:VTIMEZONE
TZID:Europe/London
BEGIN:DAYLIGHT
TZOFFSETFROM:+0000
TZOFFSETTO:+0100
TZNAME:BST
DTSTART:20240331T010000
END:DAYLIGHT
BEGIN:STANDARD
TZOFFSETFROM:+0100
TZOFFSETTO:+0000
TZNAME:GMT
DTSTART:20241027T010000
END:STANDARD
END:VTIMEZONE
BEGIN:VEVENT
DTSTART;TZID=Europe/London:20240217T190000
DTEND;TZID=Europe/London:20240217T200000
DTSTAMP:20260421T095048
CREATED:20231221T023554Z
LAST-MODIFIED:20231221T025238Z
UID:9613-1708196400-1708200000@faithmission.org
SUMMARY:Aughnacloy / Edentilone Rally
DESCRIPTION:This is your invitation to\nAughnacloy/Edintilone Rally\nIn Aughnacloy Presbyterian Church Hall\n(kindly granted)\nSaturday 17th February 2024 @ 8.00pm \nSpeaker: Garry Tutty\nSinger: Elaine Doran \nReport by: Heather Wilson\n\nCome and be encouraged by:\n– Faithful Bible ministry\n– Updates on FM work\n– Christian Fellowship\nYou will be most welcome
URL:https://faithmission.org/event/aughnacloy-edentilone-rally/
CATEGORIES:General,West Irish District
ATTACH;FMTTYPE=image/jpeg:https://faithmission.org/wp-content/uploads/2022/01/bible_event1.jpg
END:VEVENT
END:VCALENDAR