BEGIN:VCALENDAR
VERSION:2.0
PRODID:-//Faith Mission - ECPv5.4.0.2//NONSGML v1.0//EN
CALSCALE:GREGORIAN
METHOD:PUBLISH
X-WR-CALNAME:Faith Mission
X-ORIGINAL-URL:https://faithmission.org
X-WR-CALDESC:Events for Faith Mission
BEGIN:VTIMEZONE
TZID:Europe/London
BEGIN:DAYLIGHT
TZOFFSETFROM:+0000
TZOFFSETTO:+0100
TZNAME:BST
DTSTART:20240331T010000
END:DAYLIGHT
BEGIN:STANDARD
TZOFFSETFROM:+0100
TZOFFSETTO:+0000
TZNAME:GMT
DTSTART:20241027T010000
END:STANDARD
END:VTIMEZONE
BEGIN:VEVENT
DTSTART;TZID=Europe/London:20240214T200000
DTEND;TZID=Europe/London:20240214T210000
DTSTAMP:20260422T103845
CREATED:20240120T014632Z
LAST-MODIFIED:20240120T014632Z
UID:9691-1707940800-1707944400@faithmission.org
SUMMARY:Clonduff Rally
DESCRIPTION:In Clonduff Presbyterian Church\nWednesday 14th February @ 8.00pm\nSoloist: Garry Tutty \nReport: Simon Walsh \nSpeaker: Simon Walsh\nEnjoy good fellowship\, community singing\, ministry and\nhear up – to – date news of Faith Mission work
URL:https://faithmission.org/event/clonduff-rally-3/
LOCATION:Clonduff Presbyterian Church\, 51 Bannfield Road\, Rathfriland\, BT34 5HG
CATEGORIES:Central Irish District,General
ATTACH;FMTTYPE=image/jpeg:https://faithmission.org/wp-content/uploads/2022/01/bible_event1.jpg
END:VEVENT
END:VCALENDAR