BEGIN:VCALENDAR
VERSION:2.0
PRODID:-//Faith Mission - ECPv5.4.0.2//NONSGML v1.0//EN
CALSCALE:GREGORIAN
METHOD:PUBLISH
X-WR-CALNAME:Faith Mission
X-ORIGINAL-URL:https://faithmission.org
X-WR-CALDESC:Events for Faith Mission
BEGIN:VTIMEZONE
TZID:Europe/London
BEGIN:DAYLIGHT
TZOFFSETFROM:+0000
TZOFFSETTO:+0100
TZNAME:BST
DTSTART:20260329T010000
END:DAYLIGHT
BEGIN:STANDARD
TZOFFSETFROM:+0100
TZOFFSETTO:+0000
TZNAME:GMT
DTSTART:20261025T010000
END:STANDARD
END:VTIMEZONE
BEGIN:VEVENT
DTSTART;TZID=Europe/London:20260321T200000
DTEND;TZID=Europe/London:20260321T210000
DTSTAMP:20260422T210907
CREATED:20260224T003539Z
LAST-MODIFIED:20260224T003539Z
UID:11869-1774123200-1774126800@faithmission.org
SUMMARY:Curglassan Rally
DESCRIPTION:In Curglassan Mission Hall\nSaturday 21 March at 8.00pm\nSpeaker: Pastor Mervyn Carter\nSinger: Ashley Cunningham\nReport by: Robert Little
URL:https://faithmission.org/event/curglassan-rally-4/
LOCATION:Curglassan Mission Hall
CATEGORIES:General,West Irish District
ATTACH;FMTTYPE=image/jpeg:https://faithmission.org/wp-content/uploads/2022/01/bible_event1.jpg
GEO:54.598956;-6.658924
END:VEVENT
END:VCALENDAR