BEGIN:VCALENDAR
VERSION:2.0
PRODID:-//Faith Mission - ECPv5.4.0.2//NONSGML v1.0//EN
CALSCALE:GREGORIAN
METHOD:PUBLISH
X-WR-CALNAME:Faith Mission
X-ORIGINAL-URL:https://faithmission.org
X-WR-CALDESC:Events for Faith Mission
BEGIN:VTIMEZONE
TZID:Europe/London
BEGIN:DAYLIGHT
TZOFFSETFROM:+0000
TZOFFSETTO:+0100
TZNAME:BST
DTSTART:20250330T010000
END:DAYLIGHT
BEGIN:STANDARD
TZOFFSETFROM:+0100
TZOFFSETTO:+0000
TZNAME:GMT
DTSTART:20251026T010000
END:STANDARD
END:VTIMEZONE
BEGIN:VEVENT
DTSTART;TZID=Europe/London:20250727T160000
DTEND;TZID=Europe/London:20250727T170000
DTSTAMP:20260423T115739
CREATED:20250711T121547Z
LAST-MODIFIED:20250711T121547Z
UID:11265-1753632000-1753635600@faithmission.org
SUMMARY:Donegal Barn Mission
DESCRIPTION:Barn Service: Sunday 27 July at 4pm\nSpeaker: Rev Sean McClafferty\nMusic: Mr Gordon Quinn \nDonegal Barn Mission: Monday 28 July – Sunday 3 August\nMonday – Friday at 8pm\, Sunday at 4pm\nNo meeting on Saturday \nMilton Jervis\nMountcharles\nF94 KF44
URL:https://faithmission.org/event/donegal-barn-mission-3/2025-07-27/
LOCATION:Mountcharles\, Mountcharles\, Donegal\, F94 KF44
CATEGORIES:General,North West Irish District
ATTACH;FMTTYPE=image/jpeg:https://faithmission.org/wp-content/uploads/2022/01/outreach_event1.jpg
END:VEVENT
END:VCALENDAR