BEGIN:VCALENDAR
VERSION:2.0
PRODID:-//Faith Mission - ECPv5.4.0.2//NONSGML v1.0//EN
CALSCALE:GREGORIAN
METHOD:PUBLISH
X-WR-CALNAME:Faith Mission
X-ORIGINAL-URL:https://faithmission.org
X-WR-CALDESC:Events for Faith Mission
BEGIN:VTIMEZONE
TZID:Europe/London
BEGIN:DAYLIGHT
TZOFFSETFROM:+0000
TZOFFSETTO:+0100
TZNAME:BST
DTSTART:20220327T010000
END:DAYLIGHT
BEGIN:STANDARD
TZOFFSETFROM:+0100
TZOFFSETTO:+0000
TZNAME:GMT
DTSTART:20221030T010000
END:STANDARD
END:VTIMEZONE
BEGIN:VEVENT
DTSTART;TZID=Europe/London:20221125T190000
DTEND;TZID=Europe/London:20221125T200000
DTSTAMP:20260423T141649
CREATED:20221018T101911Z
LAST-MODIFIED:20221018T101911Z
UID:8091-1669402800-1669406400@faithmission.org
SUMMARY:Drumquin Rally
DESCRIPTION:This is your invitation to\nDrumquin Rally\nIn Drumquin Presbyterian Church Hall\n(kindly granted)\nFriday 25th November 2022 @ 8.00pm\nSpeaker: Andrew McIlroy \nSoloist: Alison Brown\nReport by: Heather Wilson\nCome and be encouraged by:\n– Faithful Bible ministry\n– Updates on FM work\n– Christian Fellowship\nYou will be most welcome!
URL:https://faithmission.org/event/drumquin-rally/
LOCATION:Drumquin Presbyterian Church\, 2 Castlederg Rd\, Drumquin\,\, Omagh\, BT78 4PH
CATEGORIES:General,West Irish District
ATTACH;FMTTYPE=image/jpeg:https://faithmission.org/wp-content/uploads/2022/01/bible_event1.jpg
END:VEVENT
END:VCALENDAR