BEGIN:VCALENDAR
VERSION:2.0
PRODID:-//Faith Mission - ECPv5.4.0.2//NONSGML v1.0//EN
CALSCALE:GREGORIAN
METHOD:PUBLISH
X-WR-CALNAME:Faith Mission
X-ORIGINAL-URL:https://faithmission.org
X-WR-CALDESC:Events for Faith Mission
BEGIN:VTIMEZONE
TZID:Europe/London
BEGIN:DAYLIGHT
TZOFFSETFROM:+0000
TZOFFSETTO:+0100
TZNAME:BST
DTSTART:20210328T010000
END:DAYLIGHT
BEGIN:STANDARD
TZOFFSETFROM:+0100
TZOFFSETTO:+0000
TZNAME:GMT
DTSTART:20211031T010000
END:STANDARD
END:VTIMEZONE
BEGIN:VEVENT
DTSTART;TZID=Europe/London:20210813T193000
DTEND;TZID=Europe/London:20210813T203000
DTSTAMP:20260423T170835
CREATED:20210713T194059Z
LAST-MODIFIED:20210717T215507Z
UID:6246-1628883000-1628886600@faithmission.org
SUMMARY:Durrow Gospel Weekend 2021
DESCRIPTION:Also known as the Irish Midlands Convention.\nFriday 13 August at 7.30pm\nSaturday 14 August at 4.00pm\nSunday 15 August at 4.00pm \nSpeakers: Mervyn Carter & George Conn \n• Music\n• Children’s Talks\n• Life Changing Stories\n• Bible Talks\n• Refreshments served at close\n• Everyone Welcome
URL:https://faithmission.org/event/durrow-gospel-weekend-2021/2021-08-13/
LOCATION:Durrow Centre\, Knocknagrally\, Durrow\, R32 HX23\, Ireland
CATEGORIES:Durrow Centre,Irish Midlands District
ATTACH;FMTTYPE=image/jpeg:https://faithmission.org/wp-content/uploads/Events/FM_Web_EventGraphic_Drive_in.jpg
END:VEVENT
END:VCALENDAR