BEGIN:VCALENDAR
VERSION:2.0
PRODID:-//Faith Mission - ECPv5.4.0.2//NONSGML v1.0//EN
CALSCALE:GREGORIAN
METHOD:PUBLISH
X-WR-CALNAME:Faith Mission
X-ORIGINAL-URL:https://faithmission.org
X-WR-CALDESC:Events for Faith Mission
BEGIN:VTIMEZONE
TZID:Europe/London
BEGIN:DAYLIGHT
TZOFFSETFROM:+0000
TZOFFSETTO:+0100
TZNAME:BST
DTSTART:20240331T010000
END:DAYLIGHT
BEGIN:STANDARD
TZOFFSETFROM:+0100
TZOFFSETTO:+0000
TZNAME:GMT
DTSTART:20241027T010000
END:STANDARD
END:VTIMEZONE
BEGIN:VEVENT
DTSTART;TZID=Europe/London:20240210T180000
DTEND;TZID=Europe/London:20240210T200000
DTSTAMP:20260421T223431
CREATED:20231221T030957Z
LAST-MODIFIED:20231221T031109Z
UID:9620-1707588000-1707595200@faithmission.org
SUMMARY:Fellowship Meal
DESCRIPTION:Saturday 10 February 2024 at 7.00pm\nIn Omagh Baptist Church Hall\nSinging: Paul & Sharon Acheson\nLocal FM Report: Heather Wilson\nEpilogue: Paul Acheson
URL:https://faithmission.org/event/fellowship-meal-2/
CATEGORIES:General,West Irish District
ATTACH;FMTTYPE=image/jpeg:https://faithmission.org/wp-content/uploads/Events/FM_Web_EventGraphic_Food.jpg
END:VEVENT
END:VCALENDAR