BEGIN:VCALENDAR
VERSION:2.0
PRODID:-//Faith Mission - ECPv5.4.0.2//NONSGML v1.0//EN
CALSCALE:GREGORIAN
METHOD:PUBLISH
X-WR-CALNAME:Faith Mission
X-ORIGINAL-URL:https://faithmission.org
X-WR-CALDESC:Events for Faith Mission
BEGIN:VTIMEZONE
TZID:Europe/London
BEGIN:DAYLIGHT
TZOFFSETFROM:+0000
TZOFFSETTO:+0100
TZNAME:BST
DTSTART:20230326T010000
END:DAYLIGHT
BEGIN:STANDARD
TZOFFSETFROM:+0100
TZOFFSETTO:+0000
TZNAME:GMT
DTSTART:20231029T010000
END:STANDARD
END:VTIMEZONE
BEGIN:VEVENT
DTSTART;TZID=Europe/London:20230304T173000
DTEND;TZID=Europe/London:20230304T200000
DTSTAMP:20260424T053604
CREATED:20230219T145905Z
LAST-MODIFIED:20230219T165856Z
UID:8508-1677951000-1677960000@faithmission.org
SUMMARY:Fellowship Meal - NWID
DESCRIPTION:Fellowship Meal\nSaturday 4 March 2023 at 6.30pm\nIn Faughanvale Presbyterian Church Hall\nMusic & Epilogue – Keith & Karen Lindsay \nPlease indicate your choice of starter and main course: \nPlease book by Saturday 25 February.  07717005590\n\nStarter:\nMelon with Raspberry Coulis\nFlorida Cocktail\nVegetable Soup \nMain Course:\nStuffed Chicken Breast wrapped in bacon\nRoast Beef\nSalmon
URL:https://faithmission.org/event/fellowship-meal-nwid/
CATEGORIES:General,North West Irish District
ATTACH;FMTTYPE=image/jpeg:https://faithmission.org/wp-content/uploads/Events/FM_Web_EventGraphic_Food.jpg
END:VEVENT
END:VCALENDAR