BEGIN:VCALENDAR
VERSION:2.0
PRODID:-//Faith Mission - ECPv5.4.0.2//NONSGML v1.0//EN
CALSCALE:GREGORIAN
METHOD:PUBLISH
X-WR-CALNAME:Faith Mission
X-ORIGINAL-URL:https://faithmission.org
X-WR-CALDESC:Events for Faith Mission
BEGIN:VTIMEZONE
TZID:Europe/London
BEGIN:DAYLIGHT
TZOFFSETFROM:+0000
TZOFFSETTO:+0100
TZNAME:BST
DTSTART:20230326T010000
END:DAYLIGHT
BEGIN:STANDARD
TZOFFSETFROM:+0100
TZOFFSETTO:+0000
TZNAME:GMT
DTSTART:20231029T010000
END:STANDARD
END:VTIMEZONE
BEGIN:VEVENT
DTSTART;TZID=Europe/London:20230217T190000
DTEND;TZID=Europe/London:20230217T200000
DTSTAMP:20260423T004841
CREATED:20230203T194034Z
LAST-MODIFIED:20230203T194034Z
UID:8426-1676660400-1676664000@faithmission.org
SUMMARY:Glaslough Rally
DESCRIPTION:In Donagh Parish Hall Glaslough\nFriday 17 February @ 8.00pm\nMusic by: Ballybay Country Gospel Group\nSpeaking: Brian Parker\nEnjoy good fellowship & ministry and hear up – to – date news of Faith Mission work\nAll warmly invited
URL:https://faithmission.org/event/glaslough-rally/
CATEGORIES:General,Irish Border District
ATTACH;FMTTYPE=image/jpeg:https://faithmission.org/wp-content/uploads/2022/01/bible_event1.jpg
END:VEVENT
END:VCALENDAR