BEGIN:VCALENDAR
VERSION:2.0
PRODID:-//Faith Mission - ECPv5.4.0.2//NONSGML v1.0//EN
CALSCALE:GREGORIAN
METHOD:PUBLISH
X-WR-CALNAME:Faith Mission
X-ORIGINAL-URL:https://faithmission.org
X-WR-CALDESC:Events for Faith Mission
BEGIN:VTIMEZONE
TZID:Europe/London
BEGIN:DAYLIGHT
TZOFFSETFROM:+0000
TZOFFSETTO:+0100
TZNAME:BST
DTSTART:20240331T010000
END:DAYLIGHT
BEGIN:STANDARD
TZOFFSETFROM:+0100
TZOFFSETTO:+0000
TZNAME:GMT
DTSTART:20241027T010000
END:STANDARD
END:VTIMEZONE
BEGIN:VEVENT
DTSTART;TZID=Europe/London:20241109T193000
DTEND;TZID=Europe/London:20241109T203000
DTSTAMP:20260419T230524
CREATED:20241027T200011Z
LAST-MODIFIED:20241027T201729Z
UID:10625-1731180600-1731184200@faithmission.org
SUMMARY:Gospel Praise Night
DESCRIPTION:Saturday 9 November at 7.30pm\nSingers: Ministry in Song\nEpilogue: Gordon Thomson \nTea & Coffee Served After
URL:https://faithmission.org/event/gospel-praise-night/
LOCATION:Portadown FM Centre\, Mahon Road\,\, Portadown\, BT62 3SF
CATEGORIES:General,Irish Border District
ATTACH;FMTTYPE=image/jpeg:https://faithmission.org/wp-content/uploads/2022/01/outreach_event1.jpg
END:VEVENT
END:VCALENDAR