BEGIN:VCALENDAR
VERSION:2.0
PRODID:-//Faith Mission - ECPv5.4.0.2//NONSGML v1.0//EN
CALSCALE:GREGORIAN
METHOD:PUBLISH
X-WR-CALNAME:Faith Mission
X-ORIGINAL-URL:https://faithmission.org
X-WR-CALDESC:Events for Faith Mission
BEGIN:VTIMEZONE
TZID:Europe/London
BEGIN:DAYLIGHT
TZOFFSETFROM:+0000
TZOFFSETTO:+0100
TZNAME:BST
DTSTART:20230326T010000
END:DAYLIGHT
BEGIN:STANDARD
TZOFFSETFROM:+0100
TZOFFSETTO:+0000
TZNAME:GMT
DTSTART:20231029T010000
END:STANDARD
END:VTIMEZONE
BEGIN:VEVENT
DTSTART;VALUE=DATE:20230520
DTEND;VALUE=DATE:20230521
DTSTAMP:20260422T151123
CREATED:20230502T195207Z
LAST-MODIFIED:20230502T200338Z
UID:8842-1684540800-1684627199@faithmission.org
SUMMARY:Harby Day
DESCRIPTION:At The Harby Centre\nSaturday 20 May 2023 \nAt 2pm & 6pm\nFree meal provided between servces\nSPEAKER: Mr Simon Walsh \nBookstall will be available \nRelevant preaching of God’s Word\, Fellowship\, Worship
URL:https://faithmission.org/event/harby-day-2/
LOCATION:Harby Centre\, Glebe Farm\, Langer Lane\, Harby\, LE14 4BL
CATEGORIES:General,Harby Centre
ATTACH;FMTTYPE=image/jpeg:https://faithmission.org/wp-content/uploads/2022/01/bible_event1.jpg
END:VEVENT
END:VCALENDAR