BEGIN:VCALENDAR
VERSION:2.0
PRODID:-//Faith Mission - ECPv5.4.0.2//NONSGML v1.0//EN
CALSCALE:GREGORIAN
METHOD:PUBLISH
X-WR-CALNAME:Faith Mission
X-ORIGINAL-URL:https://faithmission.org
X-WR-CALDESC:Events for Faith Mission
BEGIN:VTIMEZONE
TZID:Europe/London
BEGIN:DAYLIGHT
TZOFFSETFROM:+0000
TZOFFSETTO:+0100
TZNAME:BST
DTSTART:20220327T010000
END:DAYLIGHT
BEGIN:STANDARD
TZOFFSETFROM:+0100
TZOFFSETTO:+0000
TZNAME:GMT
DTSTART:20221030T010000
END:STANDARD
END:VTIMEZONE
BEGIN:VEVENT
DTSTART;VALUE=DATE:20220819
DTEND;VALUE=DATE:20220822
DTSTAMP:20260423T044801
CREATED:20220619T154112Z
LAST-MODIFIED:20220719T202203Z
UID:7715-1660867200-1661126399@faithmission.org
SUMMARY:Irish Midlands Convention
DESCRIPTION:At The Faith Mission Centre\, Knocknagrally\, Durrow\n19-21 August 2022\nBible Teaching\, Fellowship\, Hospitality\nFamily Camping\, Youth & Children’s events\, Christian Bookstall and much more! \nSpeakers:\nDavid Burke\, New Tribes Mission\nPhilip & Catherine Campbell\, Evangelist & Author
URL:https://faithmission.org/event/irish-midlands-convention/
LOCATION:Durrow Centre\, Knocknagrally\, Durrow\, R32 HX23\, Ireland
CATEGORIES:Durrow Centre,Irish Midlands District
ATTACH;FMTTYPE=image/jpeg:https://faithmission.org/wp-content/uploads/2022/01/bible_event1.jpg
END:VEVENT
END:VCALENDAR