BEGIN:VCALENDAR
VERSION:2.0
PRODID:-//Faith Mission - ECPv5.4.0.2//NONSGML v1.0//EN
CALSCALE:GREGORIAN
METHOD:PUBLISH
X-WR-CALNAME:Faith Mission
X-ORIGINAL-URL:https://faithmission.org
X-WR-CALDESC:Events for Faith Mission
BEGIN:VTIMEZONE
TZID:Europe/London
BEGIN:DAYLIGHT
TZOFFSETFROM:+0000
TZOFFSETTO:+0100
TZNAME:BST
DTSTART:20260329T010000
END:DAYLIGHT
BEGIN:STANDARD
TZOFFSETFROM:+0100
TZOFFSETTO:+0000
TZNAME:GMT
DTSTART:20261025T010000
END:STANDARD
END:VTIMEZONE
BEGIN:VEVENT
DTSTART;TZID=Europe/London:20260130T200000
DTEND;TZID=Europe/London:20260130T210000
DTSTAMP:20260422T234643
CREATED:20260124T204305Z
LAST-MODIFIED:20260124T204305Z
UID:11773-1769803200-1769806800@faithmission.org
SUMMARY:Kinallen Rally
DESCRIPTION:In Kinallen Mission Hall\nFriday 30th January at 8.00pm\nTestimony: Mrs Violet Moore\nSpeaker: Rev Eric Moore\nEnjoy good fellowship & ministry and hear up – to –date news of Faith Mission work\nAll warmly invited – come and bring others!
URL:https://faithmission.org/event/kinallen-rally-2/
LOCATION:Kinallen Mission Hall
CATEGORIES:Central Irish District,General
ATTACH;FMTTYPE=image/jpeg:https://faithmission.org/wp-content/uploads/2022/01/bible_event1.jpg
END:VEVENT
END:VCALENDAR