BEGIN:VCALENDAR
VERSION:2.0
PRODID:-//Faith Mission - ECPv5.4.0.2//NONSGML v1.0//EN
CALSCALE:GREGORIAN
METHOD:PUBLISH
X-WR-CALNAME:Faith Mission
X-ORIGINAL-URL:https://faithmission.org
X-WR-CALDESC:Events for Faith Mission
BEGIN:VTIMEZONE
TZID:Europe/London
BEGIN:DAYLIGHT
TZOFFSETFROM:+0000
TZOFFSETTO:+0100
TZNAME:BST
DTSTART:20220327T010000
END:DAYLIGHT
BEGIN:STANDARD
TZOFFSETFROM:+0100
TZOFFSETTO:+0000
TZNAME:GMT
DTSTART:20221030T010000
END:STANDARD
END:VTIMEZONE
BEGIN:VEVENT
DTSTART;VALUE=DATE:20220916
DTEND;VALUE=DATE:20220919
DTSTAMP:20260425T034704
CREATED:20220713T220638Z
LAST-MODIFIED:20220713T220638Z
UID:7746-1663286400-1663545599@faithmission.org
SUMMARY:Lakeland Bible Weekend
DESCRIPTION:Cleenish Centre\, Killywillan\,\nBellanaleck BT92 2BT \nFriday 16th Sept. @ 7.30 pm\nFamily BBQ\nLife Story: Paul Darragh (with Heavenly Sunshine) \nSaturday 17th @ 8.00 pm\nGeorge Conn (with the Maybin Family) \nSunday 18th @ 3.00 pm\nGeorge Conn (with Paul Irwin)
URL:https://faithmission.org/event/lakeland-bible-weekend/
LOCATION:Cleenish Centre\, Thornton Villas\, Killywillan\, Bellanaleck\, BT92 2BT
CATEGORIES:General,West Irish District
ATTACH;FMTTYPE=image/jpeg:https://faithmission.org/wp-content/uploads/2022/01/bible_event1.jpg
END:VEVENT
END:VCALENDAR