BEGIN:VCALENDAR
VERSION:2.0
PRODID:-//Faith Mission - ECPv5.4.0.2//NONSGML v1.0//EN
CALSCALE:GREGORIAN
METHOD:PUBLISH
X-WR-CALNAME:Faith Mission
X-ORIGINAL-URL:https://faithmission.org
X-WR-CALDESC:Events for Faith Mission
BEGIN:VTIMEZONE
TZID:Europe/London
BEGIN:DAYLIGHT
TZOFFSETFROM:+0000
TZOFFSETTO:+0100
TZNAME:BST
DTSTART:20230326T010000
END:DAYLIGHT
BEGIN:STANDARD
TZOFFSETFROM:+0100
TZOFFSETTO:+0000
TZNAME:GMT
DTSTART:20231029T010000
END:STANDARD
END:VTIMEZONE
BEGIN:VEVENT
DTSTART;TZID=Europe/London:20230117T190000
DTEND;TZID=Europe/London:20230117T200000
DTSTAMP:20260423T110409
CREATED:20221229T130657Z
LAST-MODIFIED:20230117T152214Z
UID:8290-1673982000-1673985600@faithmission.org
SUMMARY:Mabuoy New Year Rally (CANCELLED)
DESCRIPTION:CANCELLED DUE TO WEATHER\nMaybuoy: Tuesday 17 January\nEbrington Presbyterian Church Hall\nSpeaker: Mr Andrew McCullough \nAll Meetings at 8.00pm\nChairman: William Harrison\nSpecial Singing\, Faith Mission Reports.
URL:https://faithmission.org/event/mabuoy-new-year-rally/
LOCATION:Ebrington Presbyterian Church Hall\, Limavady Road\, Londonderry\, BT47 6JU
CATEGORIES:General,North West Irish District
ATTACH;FMTTYPE=image/jpeg:https://faithmission.org/wp-content/uploads/2022/01/bible_event1.jpg
END:VEVENT
END:VCALENDAR