BEGIN:VCALENDAR
VERSION:2.0
PRODID:-//Faith Mission - ECPv5.4.0.2//NONSGML v1.0//EN
CALSCALE:GREGORIAN
METHOD:PUBLISH
X-WR-CALNAME:Faith Mission
X-ORIGINAL-URL:https://faithmission.org
X-WR-CALDESC:Events for Faith Mission
BEGIN:VTIMEZONE
TZID:Europe/London
BEGIN:DAYLIGHT
TZOFFSETFROM:+0000
TZOFFSETTO:+0100
TZNAME:BST
DTSTART:20250330T010000
END:DAYLIGHT
BEGIN:STANDARD
TZOFFSETFROM:+0100
TZOFFSETTO:+0000
TZNAME:GMT
DTSTART:20251026T010000
END:STANDARD
END:VTIMEZONE
BEGIN:VEVENT
DTSTART;TZID=Europe/London:20250427T200000
DTEND;TZID=Europe/London:20250427T210000
DTSTAMP:20260424T130117
CREATED:20250413T224045Z
LAST-MODIFIED:20250413T230505Z
UID:11069-1745784000-1745787600@faithmission.org
SUMMARY:North West Bible Rallies
DESCRIPTION:In Lismacarol Mission Hall\nSunday 27\, Monday 28\, Tuesday 29 April at 8pm\nSpeaker: Dr Sandy Roger
URL:https://faithmission.org/event/north-west-bible-rallies-2/2025-04-27/
LOCATION:Lismacarrol Mission Hall\, 54.973543 -7.257518
CATEGORIES:General,North West Irish District
ATTACH;FMTTYPE=image/jpeg:https://faithmission.org/wp-content/uploads/2022/01/bible_event1.jpg
END:VEVENT
END:VCALENDAR