BEGIN:VCALENDAR
VERSION:2.0
PRODID:-//Faith Mission - ECPv5.4.0.2//NONSGML v1.0//EN
CALSCALE:GREGORIAN
METHOD:PUBLISH
X-WR-CALNAME:Faith Mission
X-ORIGINAL-URL:https://faithmission.org
X-WR-CALDESC:Events for Faith Mission
BEGIN:VTIMEZONE
TZID:Europe/London
BEGIN:DAYLIGHT
TZOFFSETFROM:+0000
TZOFFSETTO:+0100
TZNAME:BST
DTSTART:20240331T010000
END:DAYLIGHT
BEGIN:STANDARD
TZOFFSETFROM:+0100
TZOFFSETTO:+0000
TZNAME:GMT
DTSTART:20241027T010000
END:STANDARD
END:VTIMEZONE
BEGIN:VEVENT
DTSTART;TZID=Europe/London:20241111T200000
DTEND;TZID=Europe/London:20241111T210000
DTSTAMP:20260420T002012
CREATED:20240911T011814Z
LAST-MODIFIED:20240911T011814Z
UID:10498-1731355200-1731358800@faithmission.org
SUMMARY:November Rallies - IMD
DESCRIPTION:Brannockstown Rally in the Baptist Church\, Monday 11 November at 8.00pm\nCarlow Rally in Barrowvalley Community Church\, Tuesday 12 November at 8.00pm\nShinrone Rally in the Methodist Church\, Friday 22 November at 8.00pm
URL:https://faithmission.org/event/november-rallies-imd/2024-11-11/
CATEGORIES:General,Irish Midlands District
ATTACH;FMTTYPE=image/jpeg:https://faithmission.org/wp-content/uploads/2022/01/bible_event1.jpg
END:VEVENT
END:VCALENDAR