BEGIN:VCALENDAR
VERSION:2.0
PRODID:-//Faith Mission - ECPv5.4.0.2//NONSGML v1.0//EN
CALSCALE:GREGORIAN
METHOD:PUBLISH
X-WR-CALNAME:Faith Mission
X-ORIGINAL-URL:https://faithmission.org
X-WR-CALDESC:Events for Faith Mission
BEGIN:VTIMEZONE
TZID:Europe/London
BEGIN:DAYLIGHT
TZOFFSETFROM:+0000
TZOFFSETTO:+0100
TZNAME:BST
DTSTART:20230326T010000
END:DAYLIGHT
BEGIN:STANDARD
TZOFFSETFROM:+0100
TZOFFSETTO:+0000
TZNAME:GMT
DTSTART:20231029T010000
END:STANDARD
END:VTIMEZONE
BEGIN:VEVENT
DTSTART;TZID=Europe/London:20231115T183000
DTEND;TZID=Europe/London:20231115T200000
DTSTAMP:20260422T050432
CREATED:20231113T031119Z
LAST-MODIFIED:20231113T031119Z
UID:9532-1700073000-1700078400@faithmission.org
SUMMARY:Orkney Mission Focus Meetings
DESCRIPTION:15 Nov – Kirkwall Baptist\n16 Nov – Meadows Gospel Hall\n17 Nov – Firth C of S\n20 Nov – Grace Church
URL:https://faithmission.org/event/orkney-mission-focus-meetings-2/2023-11-15/
CATEGORIES:General,Highland District
ATTACH;FMTTYPE=image/jpeg:https://faithmission.org/wp-content/uploads/2022/01/bible_event1.jpg
END:VEVENT
END:VCALENDAR