BEGIN:VCALENDAR
VERSION:2.0
PRODID:-//Faith Mission - ECPv5.4.0.2//NONSGML v1.0//EN
CALSCALE:GREGORIAN
METHOD:PUBLISH
X-WR-CALNAME:Faith Mission
X-ORIGINAL-URL:https://faithmission.org
X-WR-CALDESC:Events for Faith Mission
BEGIN:VTIMEZONE
TZID:Europe/London
BEGIN:DAYLIGHT
TZOFFSETFROM:+0000
TZOFFSETTO:+0100
TZNAME:BST
DTSTART:20230326T010000
END:DAYLIGHT
BEGIN:STANDARD
TZOFFSETFROM:+0100
TZOFFSETTO:+0000
TZNAME:GMT
DTSTART:20231029T010000
END:STANDARD
END:VTIMEZONE
BEGIN:VEVENT
DTSTART;TZID=Europe/London:20230114T190000
DTEND;TZID=Europe/London:20230114T203000
DTSTAMP:20260422T231328
CREATED:20221216T021202Z
LAST-MODIFIED:20221216T021239Z
UID:8258-1673722800-1673728200@faithmission.org
SUMMARY:Rejuvenate
DESCRIPTION:Rejuvenate Youth Meeting (16 – 29 Year olds) \nFaith Mission Centre \n57 High Street\, Ballymena \nSaturday 14 January at 8pm \nSpeaker – Andrew Quinn \nSinger – Catherine Henderson
URL:https://faithmission.org/event/rejuvenate-2/
LOCATION:Faith Mission Centre\, Ballymena\, 57 High Street\, Ballymena\, BT43 6DT
CATEGORIES:General,North Irish District
ATTACH;FMTTYPE=image/jpeg:https://faithmission.org/wp-content/uploads/2022/01/youth_event1.jpg
ORGANIZER;CN="Andrew%20McCullough":MAILTO:north.irish@faithmission.org
END:VEVENT
END:VCALENDAR