BEGIN:VCALENDAR
VERSION:2.0
PRODID:-//Faith Mission - ECPv5.4.0.2//NONSGML v1.0//EN
CALSCALE:GREGORIAN
METHOD:PUBLISH
X-WR-CALNAME:Faith Mission
X-ORIGINAL-URL:https://faithmission.org
X-WR-CALDESC:Events for Faith Mission
BEGIN:VTIMEZONE
TZID:Europe/London
BEGIN:DAYLIGHT
TZOFFSETFROM:+0000
TZOFFSETTO:+0100
TZNAME:BST
DTSTART:20240331T010000
END:DAYLIGHT
BEGIN:STANDARD
TZOFFSETFROM:+0100
TZOFFSETTO:+0000
TZNAME:GMT
DTSTART:20241027T010000
END:STANDARD
END:VTIMEZONE
BEGIN:VEVENT
DTSTART;TZID=Europe/London:20240608T200000
DTEND;TZID=Europe/London:20240608T220000
DTSTAMP:20260420T104332
CREATED:20240604T094856Z
LAST-MODIFIED:20240604T095220Z
UID:10243-1717876800-1717884000@faithmission.org
SUMMARY:Rejuvenate BBQ
DESCRIPTION:Saturday 8 June at 8pm\nSpeaker: Pastor James Maxwell
URL:https://faithmission.org/event/rejuvenate-bbq/
LOCATION:Ballymena FM Centre\, 57 High Street\, Ballymena\, BT43 6DT
CATEGORIES:General,North Irish District
ATTACH;FMTTYPE=image/jpeg:https://faithmission.org/wp-content/uploads/Events/FM_Web_EventGraphic_Food.jpg
ORGANIZER;CN="Andrew%20McCullough":MAILTO:north.irish@faithmission.org
END:VEVENT
END:VCALENDAR