BEGIN:VCALENDAR
VERSION:2.0
PRODID:-//Faith Mission - ECPv5.4.0.2//NONSGML v1.0//EN
CALSCALE:GREGORIAN
METHOD:PUBLISH
X-WR-CALNAME:Faith Mission
X-ORIGINAL-URL:https://faithmission.org
X-WR-CALDESC:Events for Faith Mission
BEGIN:VTIMEZONE
TZID:Europe/London
BEGIN:DAYLIGHT
TZOFFSETFROM:+0000
TZOFFSETTO:+0100
TZNAME:BST
DTSTART:20230326T010000
END:DAYLIGHT
BEGIN:STANDARD
TZOFFSETFROM:+0100
TZOFFSETTO:+0000
TZNAME:GMT
DTSTART:20231029T010000
END:STANDARD
END:VTIMEZONE
BEGIN:VEVENT
DTSTART;TZID=Europe/London:20230909T193000
DTEND;TZID=Europe/London:20230909T213000
DTSTAMP:20260422T202308
CREATED:20230906T124406Z
LAST-MODIFIED:20230906T124406Z
UID:9156-1694287800-1694295000@faithmission.org
SUMMARY:Tandragee Rally
DESCRIPTION:In The Faith Mission Conference & Camp Centre\nSaturday 9 September at 7.30pm\nLeading: Garry Tutty\nSinging: Brian & Ruth Agnew\nSpeaking: Trevor Matthews\nWelcome meeting for Simon & Rebecca Walsh \nAll Warmly Invited – Refreshments Afterwards
URL:https://faithmission.org/event/tandragee-rally-2/
LOCATION:Portadown FM Centre\, Mahon Road\,\, Portadown\, BT62 3SF
CATEGORIES:General,Irish Border District
ATTACH;FMTTYPE=image/jpeg:https://faithmission.org/wp-content/uploads/2022/01/bible_event1.jpg
END:VEVENT
END:VCALENDAR