BEGIN:VCALENDAR
VERSION:2.0
PRODID:-//Faith Mission - ECPv5.4.0.2//NONSGML v1.0//EN
CALSCALE:GREGORIAN
METHOD:PUBLISH
X-WR-CALNAME:Faith Mission
X-ORIGINAL-URL:https://faithmission.org
X-WR-CALDESC:Events for Faith Mission
BEGIN:VTIMEZONE
TZID:Europe/London
BEGIN:DAYLIGHT
TZOFFSETFROM:+0000
TZOFFSETTO:+0100
TZNAME:BST
DTSTART:20230326T010000
END:DAYLIGHT
BEGIN:STANDARD
TZOFFSETFROM:+0100
TZOFFSETTO:+0000
TZNAME:GMT
DTSTART:20231029T010000
END:STANDARD
END:VTIMEZONE
BEGIN:VEVENT
DTSTART;TZID=Europe/London:20231121T093000
DTEND;TZID=Europe/London:20231121T110000
DTSTAMP:20260423T011722
CREATED:20231109T231714Z
LAST-MODIFIED:20231109T232745Z
UID:9522-1700559000-1700564400@faithmission.org
SUMMARY:Tea\, Toast\, Testimonies
DESCRIPTION:All Ladies Welcome to this Event\nWith Heather O’Gorman\nTuesday 21 November at 10.30am
URL:https://faithmission.org/event/tea-toast-testimonies/
LOCATION:Rural Revival\, Church Lane\, Baltinglass
CATEGORIES:General,Irish Midlands District
ATTACH;FMTTYPE=image/jpeg:https://faithmission.org/wp-content/uploads/Events/FM_Web_EventGraphic_Ladies.jpg
ORGANIZER;CN="Emily%20Brown":MAILTO:daniel.brown@faithmission.org
END:VEVENT
END:VCALENDAR