BEGIN:VCALENDAR
VERSION:2.0
PRODID:-//Faith Mission - ECPv5.4.0.2//NONSGML v1.0//EN
CALSCALE:GREGORIAN
METHOD:PUBLISH
X-WR-CALNAME:Faith Mission
X-ORIGINAL-URL:https://faithmission.org
X-WR-CALDESC:Events for Faith Mission
BEGIN:VTIMEZONE
TZID:Europe/London
BEGIN:DAYLIGHT
TZOFFSETFROM:+0000
TZOFFSETTO:+0100
TZNAME:BST
DTSTART:20230326T010000
END:DAYLIGHT
BEGIN:STANDARD
TZOFFSETFROM:+0100
TZOFFSETTO:+0000
TZNAME:GMT
DTSTART:20231029T010000
END:STANDARD
END:VTIMEZONE
BEGIN:VEVENT
DTSTART;TZID=Europe/London:20230306T190000
DTEND;TZID=Europe/London:20230310T200000
DTSTAMP:20260423T045702
CREATED:20230119T230422Z
LAST-MODIFIED:20230119T230826Z
UID:8336-1678129200-1678478400@faithmission.org
SUMMARY:The Church At War (Armour of God)
DESCRIPTION:The Armour of God\nMr Robert Little\nMonday 5 – Friday 10 March at 8pm\nNewbuildings Independent Methodist Church
URL:https://faithmission.org/event/the-church-at-war-armour-of-god/
CATEGORIES:General,West Irish District
ATTACH;FMTTYPE=image/jpeg:https://faithmission.org/wp-content/uploads/2022/01/bible_event1.jpg
END:VEVENT
END:VCALENDAR