BEGIN:VCALENDAR
VERSION:2.0
PRODID:-//Faith Mission - ECPv5.4.0.2//NONSGML v1.0//EN
CALSCALE:GREGORIAN
METHOD:PUBLISH
X-WR-CALNAME:Faith Mission
X-ORIGINAL-URL:https://faithmission.org
X-WR-CALDESC:Events for Faith Mission
BEGIN:VTIMEZONE
TZID:Europe/London
BEGIN:DAYLIGHT
TZOFFSETFROM:+0000
TZOFFSETTO:+0100
TZNAME:BST
DTSTART:20220327T010000
END:DAYLIGHT
BEGIN:STANDARD
TZOFFSETFROM:+0100
TZOFFSETTO:+0000
TZNAME:GMT
DTSTART:20221030T010000
END:STANDARD
END:VTIMEZONE
BEGIN:VEVENT
DTSTART;TZID=Europe/London:20220401T103000
DTEND;TZID=Europe/London:20220401T123000
DTSTAMP:20260426T023204
CREATED:20220329T195100Z
LAST-MODIFIED:20220329T195100Z
UID:7371-1648809000-1648816200@faithmission.org
SUMMARY:Hope for the Future
DESCRIPTION:Hope for the Future in Corick House Hotel\, Clogher\, BT76 0BZ\nFriday 1 – Sunday 3 April 2022\nFriday at 10.30am Ladies Coffee Morning with Amy Lennox (booking required)\nSpeaker on Saturday and Sunday at 8pm: David Bennett \nFor enquiries contact Alison 07990619351
URL:https://faithmission.org/event/hope-for-the-future/2022-04-01/
LOCATION:Corick House Hotel\, 20 Corick Road\, Clogher\,\, BT76 0BZ\, United Kingdom
CATEGORIES:General,West Irish District
ATTACH;FMTTYPE=image/jpeg:https://faithmission.org/wp-content/uploads/2022/01/bible_event1.jpg
END:VEVENT
BEGIN:VEVENT
DTSTART;VALUE=DATE:20220402
DTEND;VALUE=DATE:20220411
DTSTAMP:20260426T023204
CREATED:20220317T015845Z
LAST-MODIFIED:20220317T015845Z
UID:7344-1648857600-1649635199@faithmission.org
SUMMARY:A Passion For Life
DESCRIPTION:
URL:https://faithmission.org/event/a-passion-for-life/
CATEGORIES:General,Gospel Truck
ATTACH;FMTTYPE=image/jpeg:https://faithmission.org/wp-content/uploads/2022/01/outreach_event1.jpg
END:VEVENT
BEGIN:VEVENT
DTSTART;TZID=Europe/London:20220406T080000
DTEND;TZID=Europe/London:20220406T170000
DTSTAMP:20260426T023204
CREATED:20220406T155627Z
LAST-MODIFIED:20220406T155627Z
UID:7420-1649232000-1649264400@faithmission.org
SUMMARY:Kilkenny Rally
DESCRIPTION:Wednesday 4 May at 7.30pm\nIn Kilkenny Presbyterian Church\nSpeaker: Pastor Paddy Grant (Barrowvalley Community Church)\nReports of the work
URL:https://faithmission.org/event/kilkenny-rally/
LOCATION:Kilkenny Presbyterian Church\, 16 New Road Kilkenny\, Kilkenny\, R95 X588
CATEGORIES:General,Irish Midlands District
ATTACH;FMTTYPE=image/jpeg:https://faithmission.org/wp-content/uploads/2022/01/bible_event1.jpg
END:VEVENT
BEGIN:VEVENT
DTSTART;TZID=Europe/London:20220407T200000
DTEND;TZID=Europe/London:20220407T211500
DTSTAMP:20260426T023204
CREATED:20220228T160952Z
LAST-MODIFIED:20220228T161132Z
UID:7054-1649361600-1649366100@faithmission.org
SUMMARY:Ballyhill Rally
DESCRIPTION:Thursday 7 April at 8pm – 9.15 Rally in Ballyhill Old School   All invited and parking in grounds. \nSpeaking: Rev Andrew Quinn\,  Leading: George Conn
URL:https://faithmission.org/event/ballyhill-rally/
LOCATION:Ballyhill Old School\, 12 Ballyhill Road\, Crumlin\, BT29 4TN
CATEGORIES:Central Irish District,General
ATTACH;FMTTYPE=image/jpeg:https://faithmission.org/wp-content/uploads/2022/01/bible_event1.jpg
END:VEVENT
BEGIN:VEVENT
DTSTART;TZID=Europe/London:20220409T200000
DTEND;TZID=Europe/London:20220409T213000
DTSTAMP:20260426T023204
CREATED:20220331T202306Z
LAST-MODIFIED:20220331T202306Z
UID:7380-1649534400-1649539800@faithmission.org
SUMMARY:Rejuvenate - Ballymena
DESCRIPTION:In The Ballymena Centre\, \nSaturday 9th April at 8pm. \nSinger – Caroline Jones \nSpeaker – Jeffrey Ferguson
URL:https://faithmission.org/event/rejuvenate-ballymena/
LOCATION:Ballymena FM Centre\, 57 High Street\, Ballymena\, BT43 6DT
CATEGORIES:General,North Irish District
ATTACH;FMTTYPE=image/jpeg:https://faithmission.org/wp-content/uploads/2022/01/bible_event1.jpg
ORGANIZER;CN="Andrew%20McCullough":MAILTO:north.irish@faithmission.org
END:VEVENT
BEGIN:VEVENT
DTSTART;TZID=Europe/London:20220425T200000
DTEND;TZID=Europe/London:20220425T210000
DTSTAMP:20260426T023204
CREATED:20220406T150313Z
LAST-MODIFIED:20220406T150313Z
UID:7399-1650916800-1650920400@faithmission.org
SUMMARY:Acton Conference 2022
DESCRIPTION:Monday 25 April\nTaking Part: Keith & Karen Lindsay\nJoin us for Bible Ministry\, Updates of FM Work\, Fellowship with God’s People
URL:https://faithmission.org/event/acton-conference-2022/
LOCATION:Poyntzpass Baptist Church\, Blackbridge Rd\, Poyntzpass\, Newry\, BT35 6QN
CATEGORIES:General,Irish Border District
ATTACH;FMTTYPE=image/jpeg:https://faithmission.org/wp-content/uploads/2022/01/bible_event1.jpg
END:VEVENT
BEGIN:VEVENT
DTSTART;TZID=Europe/London:20220427T200000
DTEND;TZID=Europe/London:20220427T211500
DTSTAMP:20260426T023204
CREATED:20220228T161318Z
LAST-MODIFIED:20220228T161318Z
UID:7056-1651089600-1651094100@faithmission.org
SUMMARY:Ballycraigy Rally
DESCRIPTION:Wednesday 27 at 8pm – 9.15 Rally in Ballycraigy Congregational Church uniting with church midweek. All welcome. Parking in grounds \nSpeaking: David Bennett \nLeading: George Conn
URL:https://faithmission.org/event/ballycraigy-rally-2/
LOCATION:Ballycraigy Congregational Church Hall\, 2 Ballyvesey Road\, Newtonabby\, BT36 4SY
CATEGORIES:Central Irish District,General
ATTACH;FMTTYPE=image/jpeg:https://faithmission.org/wp-content/uploads/2022/01/bible_event1.jpg
END:VEVENT
END:VCALENDAR