BEGIN:VCALENDAR
VERSION:2.0
PRODID:-//Faith Mission - ECPv5.4.0.2//NONSGML v1.0//EN
CALSCALE:GREGORIAN
METHOD:PUBLISH
X-WR-CALNAME:Faith Mission
X-ORIGINAL-URL:https://faithmission.org
X-WR-CALDESC:Events for Faith Mission
BEGIN:VTIMEZONE
TZID:Europe/London
BEGIN:DAYLIGHT
TZOFFSETFROM:+0000
TZOFFSETTO:+0100
TZNAME:BST
DTSTART:20220327T010000
END:DAYLIGHT
BEGIN:STANDARD
TZOFFSETFROM:+0100
TZOFFSETTO:+0000
TZNAME:GMT
DTSTART:20221030T010000
END:STANDARD
END:VTIMEZONE
BEGIN:VEVENT
DTSTART;TZID=Europe/London:20220501T201500
DTEND;TZID=Europe/London:20220501T213000
DTSTAMP:20260424T230201
CREATED:20220427T105046Z
LAST-MODIFIED:20220427T105046Z
UID:7500-1651436100-1651440600@faithmission.org
SUMMARY:Drive-In Special
DESCRIPTION:Sunday 1st May at 8.15pm \nSentry Hill Car Park\, Ballymena\, BT43 6NE \nSpeaker: Rev Trevor McNeill \nSinger: Mrs Elizabeth Steele
URL:https://faithmission.org/event/drive-in-special-11/
LOCATION:Sentry Hill Car Park\, Ballymena\, Co. Antrim\, BT43 6NE
CATEGORIES:General,North Irish District
ATTACH;FMTTYPE=image/jpeg:https://faithmission.org/wp-content/uploads/Events/FM_Web_EventGraphic_Drive_in.jpg
ORGANIZER;CN="Andrew%20McCullough":MAILTO:north.irish@faithmission.org
END:VEVENT
BEGIN:VEVENT
DTSTART;TZID=Europe/London:20220504T193000
DTEND;TZID=Europe/London:20220504T203000
DTSTAMP:20260424T230201
CREATED:20220421T100433Z
LAST-MODIFIED:20220421T102517Z
UID:7473-1651692600-1651696200@faithmission.org
SUMMARY:Kilkenny Rally
DESCRIPTION:In Kilkenny Presbyterian Church\nWednesday 4 May at 7.30pm\nSpeaker: Pastor Paddy Grant\, (Carlow)\nUp to date reports of Faith Mission Work in The Irish Midlands\nRefreshments afterwards.\nAll are welcome.
URL:https://faithmission.org/event/kilkenny-rally-2/
LOCATION:Kilkenny Presbyterian Church\, 16 New Road Kilkenny\, Kilkenny\, R95 X588
CATEGORIES:General,Irish Midlands District
ATTACH;FMTTYPE=image/jpeg:https://faithmission.org/wp-content/uploads/2022/01/bible_event1.jpg
END:VEVENT
BEGIN:VEVENT
DTSTART;VALUE=DATE:20220506
DTEND;VALUE=DATE:20220509
DTSTAMP:20260424T230202
CREATED:20220311T200926Z
LAST-MODIFIED:20220311T201029Z
UID:7339-1651795200-1652054399@faithmission.org
SUMMARY:Men's Weekend
DESCRIPTION:Speaker: Mr Henry Montgomery\nDate: 6-8 May 2022\nVenue: Durrow Centre\, Co.Laois
URL:https://faithmission.org/event/mens-weekend/
LOCATION:Durrow Centre\, Knocknagrally\, Durrow\, R32 HX23\, Ireland
CATEGORIES:Durrow Centre,General,Irish Midlands District
ATTACH;FMTTYPE=image/jpeg:https://faithmission.org/wp-content/uploads/Events/FM_Web_EventGraphic_Mens.jpg
END:VEVENT
BEGIN:VEVENT
DTSTART;TZID=Europe/London:20220506T200000
DTEND;TZID=Europe/London:20220506T211500
DTSTAMP:20260424T230202
CREATED:20220228T165006Z
LAST-MODIFIED:20220228T165006Z
UID:7060-1651867200-1651871700@faithmission.org
SUMMARY:Tullygirvan Rally
DESCRIPTION:Fri 6 at 8pm – 9.15 Rally in Ballygowan Presbyterian Church\nSpeaking: Rev Mark Spratt\nLeading: George Conn
URL:https://faithmission.org/event/tullygirvan-rally-2/
LOCATION:Ballygowan Presbyterian Church\, Church Hill\, Ballygowan\, BT23 6JA
CATEGORIES:Central Irish District,General
ATTACH;FMTTYPE=image/jpeg:https://faithmission.org/wp-content/uploads/2022/01/bible_event1.jpg
END:VEVENT
BEGIN:VEVENT
DTSTART;TZID=Europe/London:20220506T200000
DTEND;TZID=Europe/London:20220506T213000
DTSTAMP:20260424T230202
CREATED:20220427T103804Z
LAST-MODIFIED:20220427T103804Z
UID:7497-1651867200-1651872600@faithmission.org
SUMMARY:Ballygelly Prayer Union 50th Anniversary Rally
DESCRIPTION:Friday 6th May at 8pm \nBuckna Presbyterian Church Hall (Near Broughshane)\, BT42 4LS \nSpeaker: Mr Andrew Maybin \nSingers: The Maybin Family \nMr Lloyd Watson will share \nSupper at close
URL:https://faithmission.org/event/ballygelly-prayer-union-50th-anniversary-rally/
LOCATION:Buckna Presbyterian Church Hall\, 54.899598\, -6.116102\, BT42 4LS
CATEGORIES:General,North Irish District
ATTACH;FMTTYPE=image/jpeg:https://faithmission.org/wp-content/uploads/2022/01/bible_event1.jpg
ORGANIZER;CN="Andrew%20McCullough":MAILTO:north.irish@faithmission.org
END:VEVENT
BEGIN:VEVENT
DTSTART;TZID=Europe/London:20220508T201500
DTEND;TZID=Europe/London:20220508T213000
DTSTAMP:20260424T230202
CREATED:20220427T105226Z
LAST-MODIFIED:20220427T105226Z
UID:7502-1652040900-1652045400@faithmission.org
SUMMARY:Drive-In Special
DESCRIPTION:Sunday 8th May at 8.15pm \nSentry Hill Car Park\, Ballymena \nBT43 6NE \nSpeaker: Mr David Bennett \nSinger: Mrs Elizabeth Steele
URL:https://faithmission.org/event/drive-in-special-12/
LOCATION:Sentry Hill Car Park\, Ballymena\, Co. Antrim\, BT43 6NE
CATEGORIES:General,North Irish District
ATTACH;FMTTYPE=image/jpeg:https://faithmission.org/wp-content/uploads/Events/FM_Web_EventGraphic_Drive_in.jpg
ORGANIZER;CN="Andrew%20McCullough":MAILTO:north.irish@faithmission.org
END:VEVENT
BEGIN:VEVENT
DTSTART;TZID=Europe/London:20220509T193000
DTEND;TZID=Europe/London:20220509T210000
DTSTAMP:20260424T230202
CREATED:20220406T154318Z
LAST-MODIFIED:20220406T154326Z
UID:7412-1652124600-1652130000@faithmission.org
SUMMARY:Fit 4 Life
DESCRIPTION:Monday 9\, 16 & 23 May 2022\, 7.30pm\nFaith Mission Cafe/Bookshop\, Magowan Buildings\, Portadown
URL:https://faithmission.org/event/fit-4-life/2022-05-09/
LOCATION:Faith Mission Bookshop Portadown\, Unit B Magowan West\, BT62 3PL
CATEGORIES:General,Irish Border District
ATTACH;FMTTYPE=image/jpeg:https://faithmission.org/wp-content/uploads/Events/FM_Web_EventGraphic_Ladies.jpg
END:VEVENT
BEGIN:VEVENT
DTSTART;VALUE=DATE:20220511
DTEND;VALUE=DATE:20220515
DTSTAMP:20260424T230202
CREATED:20220317T021153Z
LAST-MODIFIED:20220317T021153Z
UID:7351-1652227200-1652572799@faithmission.org
SUMMARY:Balmoral Show Outreach
DESCRIPTION:
URL:https://faithmission.org/event/balmoral-show-outreach/
LOCATION:Balmoral Park\, 14 Halftown Rd\, Lisburn\, BT27 5RF
CATEGORIES:General,Gospel Truck
ATTACH;FMTTYPE=image/jpeg:https://faithmission.org/wp-content/uploads/2022/01/outreach_event1.jpg
END:VEVENT
BEGIN:VEVENT
DTSTART;TZID=Europe/London:20220513T200000
DTEND;TZID=Europe/London:20220513T220000
DTSTAMP:20260424T230202
CREATED:20220406T150906Z
LAST-MODIFIED:20220406T150906Z
UID:7402-1652472000-1652479200@faithmission.org
SUMMARY:Just 4 Ladies
DESCRIPTION:Friday 13 May 2022 at 8pm\nPamela Brown will share how God totally transformed her life.\nEmma Reid\, a gifted musician\, will sing.\nCome and bring others to this informal evening when we will hear how God brings hope into every situation.  Light refreshments will be served afterwards.
URL:https://faithmission.org/event/just-4-ladies/
LOCATION:Portadown FM Centre\, Mahon Road\,\, Portadown\, BT62 3SF
CATEGORIES:General,Irish Border District
ATTACH;FMTTYPE=image/jpeg:https://faithmission.org/wp-content/uploads/Events/FM_Web_EventGraphic_Ladies.jpg
END:VEVENT
BEGIN:VEVENT
DTSTART;VALUE=DATE:20220515
DTEND;VALUE=DATE:20220521
DTSTAMP:20260424T230202
CREATED:20220331T201759Z
LAST-MODIFIED:20220331T202036Z
UID:7376-1652572800-1653091199@faithmission.org
SUMMARY:Drive In Specials
DESCRIPTION:Bible Ministry Week – Drive-In Specials\nThese events will be held from the Faith Mission Gospel Truck\nThere is ample car parking – come and be encouraged by God’s Word\nFor further information please phone 028 25656494
URL:https://faithmission.org/event/drive-in-specials-2/
LOCATION:Ballee Playing Fields\, Ballymena\, BT42 2JU
CATEGORIES:General,Gospel Truck,North Irish District
ATTACH;FMTTYPE=image/jpeg:https://faithmission.org/wp-content/uploads/Events/FM_Web_EventGraphic_Drive_in.jpg
ORGANIZER;CN="Andrew%20McCullough":MAILTO:north.irish@faithmission.org
END:VEVENT
BEGIN:VEVENT
DTSTART;VALUE=DATE:20220515
DTEND;VALUE=DATE:20220530
DTSTAMP:20260424T230202
CREATED:20220408T092333Z
LAST-MODIFIED:20220408T125139Z
UID:7431-1652572800-1653868799@faithmission.org
SUMMARY:Camagh Gospel Campaign
DESCRIPTION:Commences Sunday 15 May\nSundays @ 7pm\, Weeknights at 8pm \nGospel Preaching & Singing or Testimony in every meeting \nEveryone welcome
URL:https://faithmission.org/event/camagh-gospel-campaign/2022-05-15/
LOCATION:Camagh Mission Hall\, 33 Derryhennett Road\, Keady\, BT60 3LF
CATEGORIES:General,West Irish District
ATTACH;FMTTYPE=image/jpeg:https://faithmission.org/wp-content/uploads/2022/01/gospel_event-1.jpg
END:VEVENT
BEGIN:VEVENT
DTSTART;VALUE=DATE:20220515
DTEND;VALUE=DATE:20220530
DTSTAMP:20260424T230202
CREATED:20220510T095217Z
LAST-MODIFIED:20220510T133241Z
UID:7545-1652572800-1653868799@faithmission.org
SUMMARY:Ballyhill Tent Mission
DESCRIPTION:Sunday 15- Sunday 29 May\nSundays at 7.30pm\, Monday – Friday at 8pm\nWith George & Andrea Conn\, Trevor Matthews and Others
URL:https://faithmission.org/event/ballyhill-tent-mission/
LOCATION:Ballyhill Old School\, 12 Ballyhill Road\, Crumlin\, BT29 4TN
CATEGORIES:Central Irish District,General
ATTACH;FMTTYPE=image/jpeg:https://faithmission.org/wp-content/uploads/2022/01/gospel_event-1.jpg
END:VEVENT
BEGIN:VEVENT
DTSTART;TZID=Europe/London:20220515T190000
DTEND;TZID=Europe/London:20220515T200000
DTSTAMP:20260424T230202
CREATED:20220406T160458Z
LAST-MODIFIED:20220406T160458Z
UID:7423-1652641200-1652644800@faithmission.org
SUMMARY:Baltinglass Rally
DESCRIPTION:Sunday 15 May at 7.00pm\nIn Rural Revival\, Baltinglass\nSpeaker: Mervyn Tomb\nReports of the work
URL:https://faithmission.org/event/baltinglass-rally/
LOCATION:Rural Revival\, Church Lane\, Baltinglass
CATEGORIES:General,Irish Midlands District
ATTACH;FMTTYPE=image/jpeg:https://faithmission.org/wp-content/uploads/2022/01/bible_event1.jpg
END:VEVENT
BEGIN:VEVENT
DTSTART;TZID=Europe/London:20220518T200000
DTEND;TZID=Europe/London:20220518T210000
DTSTAMP:20260424T230202
CREATED:20220427T225923Z
LAST-MODIFIED:20220427T230504Z
UID:7516-1652904000-1652907600@faithmission.org
SUMMARY:Moyrourkan Rally
DESCRIPTION:Wednesday 18 May at 8.00pm\nSpeaker: Leslie Brush\nReport: Brian Parker
URL:https://faithmission.org/event/moyrourkan-rally/
LOCATION:Moyrourkan Orange Hall
CATEGORIES:General,Irish Border District
ATTACH;FMTTYPE=image/jpeg:https://faithmission.org/wp-content/uploads/2022/01/bible_event1.jpg
END:VEVENT
BEGIN:VEVENT
DTSTART;TZID=Europe/London:20220521T140000
DTEND;TZID=Europe/London:20220521T190000
DTSTAMP:20260424T230202
CREATED:20220410T210537Z
LAST-MODIFIED:20220410T214417Z
UID:7440-1653141600-1653159600@faithmission.org
SUMMARY:Harby Day
DESCRIPTION:At The Harby Centre\nGlebe Farm\, Langar Lane\, Harby\, LE14 4BL\nSaturday 21 May 2022\nAt 2pm & 6pm\nfree meal provided between services.\nSpeaker Mr Stephen Walker\n(Superintendent of south east England)\nFor more information contact Alistair Park on 07804982472\nFellowship\, Worship\, Relevant Preaching of God’s Word\nThere will be a Bookstall
URL:https://faithmission.org/event/harby-day/
LOCATION:Harby Centre\, Glebe Farm\, Langer Lane\, Harby\, LE14 4BL
CATEGORIES:General,Harby Centre
ATTACH;FMTTYPE=image/jpeg:https://faithmission.org/wp-content/uploads/2022/01/bible_event1.jpg
END:VEVENT
BEGIN:VEVENT
DTSTART;TZID=Europe/London:20220522T080000
DTEND;TZID=Europe/London:20220529T170000
DTSTAMP:20260424T230202
CREATED:20220517T133503Z
LAST-MODIFIED:20220517T135851Z
UID:7585-1653206400-1653843600@faithmission.org
SUMMARY:Raphoe Outreach
DESCRIPTION:Drive In Services in The Mart Car Park\nSunday 22 – Sunday 29 May at 8.00pm each evening (Saturday Excepted) \nStreet Outreach with The Gospel Truck in the Diamond\nMonday 23 – Friday 27 May each day 10.00am – 4.00pm \nConducted by Mervyn Carter\, Garry Tutty\, Andrew Maybin\, Daniel Brown and Calvin Burns.
URL:https://faithmission.org/event/raphoe-outreach/
LOCATION:Raphoe Congregational Church\, Derry Rd\, Magheraboy\,\, Raphoe\,\, Co. Donegal
CATEGORIES:Gospel Truck,North West Irish District
ATTACH;FMTTYPE=image/jpeg:https://faithmission.org/wp-content/uploads/2022/01/outreach_event1.jpg
END:VEVENT
BEGIN:VEVENT
DTSTART;TZID=Europe/London:20220522T201500
DTEND;TZID=Europe/London:20220522T213000
DTSTAMP:20260424T230202
CREATED:20220427T105342Z
LAST-MODIFIED:20220427T110125Z
UID:7504-1653250500-1653255000@faithmission.org
SUMMARY:Drive-In Special
DESCRIPTION:Sunday 22nd May at 8.15pm \nSentry Hill Car Park\, Ballymena\,  BT43 6NE \nSpeaker: Rev Eric Stewart \nSinger: Mrs Kellie Hanna
URL:https://faithmission.org/event/drive-in-special-13/
LOCATION:Sentry Hill Car Park\, Ballymena\, Co. Antrim\, BT43 6NE
CATEGORIES:General,North Irish District
ATTACH;FMTTYPE=image/jpeg:https://faithmission.org/wp-content/uploads/Events/FM_Web_EventGraphic_Drive_in.jpg
ORGANIZER;CN="Andrew%20McCullough":MAILTO:north.irish@faithmission.org
END:VEVENT
BEGIN:VEVENT
DTSTART;TZID=Europe/London:20220525T193000
DTEND;TZID=Europe/London:20220525T213000
DTSTAMP:20260424T230202
CREATED:20220406T161547Z
LAST-MODIFIED:20220406T161834Z
UID:7426-1653507000-1653514200@faithmission.org
SUMMARY:Roscrea Rally
DESCRIPTION:Wednesday 25 May at 7.30pm\nin Oasis Fellowship\, Roscrea\nSpeaker:\nReports of the work
URL:https://faithmission.org/event/roscrea-rally/
LOCATION:Oasis Fellowship\, Gaol road\,\, Roscrea
CATEGORIES:General,Irish Midlands District
ATTACH;FMTTYPE=image/jpeg:https://faithmission.org/wp-content/uploads/2022/01/bible_event1.jpg
END:VEVENT
BEGIN:VEVENT
DTSTART;TZID=Europe/London:20220528T100000
DTEND;TZID=Europe/London:20220528T153000
DTSTAMP:20260424T230202
CREATED:20220422T122531Z
LAST-MODIFIED:20220422T122531Z
UID:7475-1653732000-1653751800@faithmission.org
SUMMARY:Ladies Conference
DESCRIPTION:Saturday 28 May\, 10.00 – 3.30pm\nAt The Faith Mission Centre\, Durrow.\nSpeaker: Mrs Brenda Duffield\nJoin us as Brenda shares her adoption story \nOrganised by Kikenny Presbyterian Ladies Fellowship and The Faith Mission \nMore more information contact Rachel Tomb on 0863626818
URL:https://faithmission.org/event/ladies-conference/
LOCATION:Durrow Centre\, Knocknagrally\, Durrow\, R32 HX23\, Ireland
CATEGORIES:Durrow Centre,General,Irish Midlands District
ATTACH;FMTTYPE=image/jpeg:https://faithmission.org/wp-content/uploads/Events/FM_Web_EventGraphic_Ladies.jpg
ORGANIZER;CN="Rachel%20Tomb":MAILTO:midlands.irish@faithmission.org
END:VEVENT
BEGIN:VEVENT
DTSTART;TZID=Europe/London:20220528T100000
DTEND;TZID=Europe/London:20220528T160000
DTSTAMP:20260424T230202
CREATED:20220428T091430Z
LAST-MODIFIED:20220428T092425Z
UID:7520-1653732000-1653753600@faithmission.org
SUMMARY:Ladies Conference - Durrow
DESCRIPTION:You are welcome to a Ladies Conference “Loved you then and still do” \nSaturday 28 May\, 10.00am – 3.30pm\nAt The Faith Mission Centre\, Durrow\, Co.Laois\, R32 HX23 \nSpeaker: Brenda Duffield\nJoin us as Brenda shares her adoption story. \nAbout:\nBrian and Brenda Duffield came to Ireland in 1995 with BCM.  They started their ministry in Newbridge\, then came alongside a church in Shannon for 8 years.  They are now back in Newbridge\, where Brian has been the pastor of Newbridge Bible Fellowship Church since 2007.  They have four children\, and nine grandchildren.  Brenda is an avid walker and enjoys the gym.  She does not like cooking or housework!  Her heart is for teaching God’s word\, especially to women and children. \nCost: €15 per person\, including meal \nProgramme \n10:00 Coffee\n10:30 Session 1\n12:00 Break/Workshop\n1:00 Dinner\n2:00 Session 2\n3:00 Coffee \nBookstalls from Kilkenny Christian Bookshop and The Faith Mission \nOrganised by Kilkenny Presbyterian Church Ladies Fellowship and The Faith Mission.
URL:https://faithmission.org/event/ladies-conference-durrow/
LOCATION:Durrow Centre\, Knocknagrally\, Durrow\, R32 HX23\, Ireland
CATEGORIES:Durrow Centre,General,Irish Midlands District
ATTACH;FMTTYPE=image/jpeg:https://faithmission.org/wp-content/uploads/Events/FM_Web_EventGraphic_Ladies.jpg
ORGANIZER;CN="Rachel%20Tomb":MAILTO:midlands.irish@faithmission.org
END:VEVENT
BEGIN:VEVENT
DTSTART;TZID=Europe/London:20220529T153000
DTEND;TZID=Europe/London:20220529T163000
DTSTAMP:20260424T230202
CREATED:20220427T110416Z
LAST-MODIFIED:20220427T110416Z
UID:7508-1653838200-1653841800@faithmission.org
SUMMARY:Drive-In Special
DESCRIPTION:Sunday 29th May at 3.30pm \nDervock Community Centre Car Park\, BT53 8BW \nSpeaker: Mr Tom Saunderson \nSinger: Mr Maurice McKendry
URL:https://faithmission.org/event/drive-in-special-15/
LOCATION:Dervock Community Centre\, BT53 8BW
CATEGORIES:General,North Irish District
ATTACH;FMTTYPE=image/jpeg:https://faithmission.org/wp-content/uploads/Events/FM_Web_EventGraphic_Drive_in.jpg
ORGANIZER;CN="Andrew%20McCullough":MAILTO:north.irish@faithmission.org
END:VEVENT
BEGIN:VEVENT
DTSTART;TZID=Europe/London:20220529T201500
DTEND;TZID=Europe/London:20220529T213000
DTSTAMP:20260424T230202
CREATED:20220427T110242Z
LAST-MODIFIED:20220427T110242Z
UID:7506-1653855300-1653859800@faithmission.org
SUMMARY:Drive-In Special
DESCRIPTION:Sunday 29th May at 8.15pm \nSentry Hill Car Park\, Ballymena\, BT43 6NE \nSpeaker: Mr Trevor Boyd \nSinger: Miss Ruth Johnston
URL:https://faithmission.org/event/drive-in-special-14/
LOCATION:Sentry Hill Car Park\, Ballymena\, Co. Antrim\, BT43 6NE
CATEGORIES:General,North Irish District
ATTACH;FMTTYPE=image/jpeg:https://faithmission.org/wp-content/uploads/Events/FM_Web_EventGraphic_Drive_in.jpg
ORGANIZER;CN="Andrew%20McCullough":MAILTO:north.irish@faithmission.org
END:VEVENT
BEGIN:VEVENT
DTSTART;TZID=Europe/London:20220603T200000
DTEND;TZID=Europe/London:20220603T210000
DTSTAMP:20260424T230202
CREATED:20210519T220538Z
LAST-MODIFIED:20220521T223648Z
UID:5891-1654286400-1654290000@faithmission.org
SUMMARY:Castlegore Bible Weekend
DESCRIPTION:Castlegore Mission Hall \nFriday 3 & Saturday 4 June at 8pm \nSunday 5 June at 8.15pm \nSpeaker: Dr Paul Ferguson \n  \n  \n 
URL:https://faithmission.org/event/castlegore-bible-weekend/2022-06-03/
LOCATION:Castlegore Mission Hall\, 43 Whappstown Rd\, Moorfields\, Ballymena\, BT42 3DB
CATEGORIES:General,North Irish District
ATTACH;FMTTYPE=image/jpeg:https://faithmission.org/wp-content/uploads/2022/01/bible_event1.jpg
ORGANIZER;CN="Andrew%20McCullough":MAILTO:north.irish@faithmission.org
END:VEVENT
END:VCALENDAR