BEGIN:VCALENDAR
VERSION:2.0
PRODID:-//Faith Mission - ECPv5.4.0.2//NONSGML v1.0//EN
CALSCALE:GREGORIAN
METHOD:PUBLISH
X-WR-CALNAME:Faith Mission
X-ORIGINAL-URL:https://faithmission.org
X-WR-CALDESC:Events for Faith Mission
BEGIN:VTIMEZONE
TZID:Europe/London
BEGIN:DAYLIGHT
TZOFFSETFROM:+0000
TZOFFSETTO:+0100
TZNAME:BST
DTSTART:20220327T010000
END:DAYLIGHT
BEGIN:STANDARD
TZOFFSETFROM:+0100
TZOFFSETTO:+0000
TZNAME:GMT
DTSTART:20221030T010000
END:STANDARD
END:VTIMEZONE
BEGIN:VEVENT
DTSTART;TZID=Europe/London:20220627T200000
DTEND;TZID=Europe/London:20220627T210000
DTSTAMP:20260424T143936
CREATED:20220510T102418Z
LAST-MODIFIED:20220510T110523Z
UID:7553-1656360000-1656363600@faithmission.org
SUMMARY:Bangor Rally
DESCRIPTION:Monday 27 June at 8pm\nBANGOR RALLY in Independent Methodist Church\, Old Gransha Road\, Bangor\nSpeaking: Andrew McCullough\nLeading: George Conn
URL:https://faithmission.org/event/bangor-rally-2/
LOCATION:Bangor Independent Methodist Church\, 106 Old Gransha Road\, Bangor\, Co. Down\, BT19 7NB
CATEGORIES:Central Irish District,General
ATTACH;FMTTYPE=image/jpeg:https://faithmission.org/wp-content/uploads/2022/01/bible_event1.jpg
END:VEVENT
BEGIN:VEVENT
DTSTART;VALUE=DATE:20220703
DTEND;VALUE=DATE:20220709
DTSTAMP:20260424T143936
CREATED:20220629T184705Z
LAST-MODIFIED:20220629T184826Z
UID:7727-1656806400-1657324799@faithmission.org
SUMMARY:Edinburgh Convention 2022
DESCRIPTION:With Main Speakers\, David Cook and Liam Goligher
URL:https://faithmission.org/event/edinburgh-convention-2022/
LOCATION:Faith Mission Bible College\, 2 Drum Street\, Gilmerton\, Edinburgh\, EH17 8QG
CATEGORIES:General
ATTACH;FMTTYPE=image/jpeg:https://faithmission.org/wp-content/uploads/2022/01/bible_event1.jpg
END:VEVENT
BEGIN:VEVENT
DTSTART;TZID=Europe/London:20220718T200000
DTEND;TZID=Europe/London:20220718T210000
DTSTAMP:20260424T143936
CREATED:20220608T231115Z
LAST-MODIFIED:20220608T231115Z
UID:7691-1658174400-1658178000@faithmission.org
SUMMARY:North Coast Drive In Specials
DESCRIPTION:NW200 Paddock Site\nMonday 18 – Friday 22 July at 8pm \nMonday 18 July\nSinger: Mr John Porter\nSpeaker: Rev Hugh Mullan \nTuesday 19 July\nSingers: The Maybin Family\nSpeaker: Rev Tom Shaw \nWednesday 20 July\nSingers: Joseph & Sandra Kennoway\nSpeaker: Mr Billy Jones \nThursday 21 July\nSingers: Reuben Orr & Leah Clements\nSpeaker: Rev Eric Stewart \nFriday 22 July\nSinger: Mr Dean Davidson\nSpeaker: Mr John Weir
URL:https://faithmission.org/event/north-coast-drive-in-specials-2/2022-07-18/
LOCATION:NW 200 Paddock Site\, 55.193487\, -6.695702\, Portrush
CATEGORIES:General,Gospel Truck,North Irish District
ATTACH;FMTTYPE=image/jpeg:https://faithmission.org/wp-content/uploads/Events/FM_Web_EventGraphic_Drive_in.jpg
ORGANIZER;CN="Andrew%20McCullough":MAILTO:north.irish@faithmission.org
END:VEVENT
END:VCALENDAR