BEGIN:VCALENDAR
VERSION:2.0
PRODID:-//Faith Mission - ECPv5.4.0.2//NONSGML v1.0//EN
CALSCALE:GREGORIAN
METHOD:PUBLISH
X-WR-CALNAME:Faith Mission
X-ORIGINAL-URL:https://faithmission.org
X-WR-CALDESC:Events for Faith Mission
BEGIN:VTIMEZONE
TZID:Europe/London
BEGIN:DAYLIGHT
TZOFFSETFROM:+0000
TZOFFSETTO:+0100
TZNAME:BST
DTSTART:20220327T010000
END:DAYLIGHT
BEGIN:STANDARD
TZOFFSETFROM:+0100
TZOFFSETTO:+0000
TZNAME:GMT
DTSTART:20221030T010000
END:STANDARD
END:VTIMEZONE
BEGIN:VEVENT
DTSTART;TZID=Europe/London:20220930T193000
DTEND;TZID=Europe/London:20220930T203000
DTSTAMP:20260424T040715
CREATED:20220929T223745Z
LAST-MODIFIED:20220929T223745Z
UID:8007-1664566200-1664569800@faithmission.org
SUMMARY:Bible Rallies
DESCRIPTION:Bible Rallies\nAllander Evangelical Church\nDouglas Street\,\nMilngavie\, G62 6PB \n30 September\nGavin Harrison \n4 November\nAlbert Mawhinney \n2 December\nAlan Wells \nJoin us at 7.30pm – 8.30pm for ministry in Word and song\nTea and Coffee Served aftewards.
URL:https://faithmission.org/event/bible-rallies/2022-09-30/
LOCATION:Stranraer Baptist Church\, Bellevilla Road\, Stranraer\, DG9 8ED
CATEGORIES:Anglo Scottish Border District,General,South Scottish District
ATTACH;FMTTYPE=image/jpeg:https://faithmission.org/wp-content/uploads/2022/01/bible_event1.jpg
END:VEVENT
BEGIN:VEVENT
DTSTART;TZID=Europe/London:20220930T193000
DTEND;TZID=Europe/London:20220930T203000
DTSTAMP:20260424T040715
CREATED:20220929T230021Z
LAST-MODIFIED:20221101T231838Z
UID:8011-1664566200-1664569800@faithmission.org
SUMMARY:Bible Rallies
DESCRIPTION:Bible Rallies\nAllander Evangelical Church\nDouglas Street\,\nMilngavie\, G62 6PB \n4 November\nAlbert Mawhinney \n2 December\nAlan Wells \nJoin us at 7.30pm – 8.30pm for ministry in Word and song\nTea and Coffee Served aftewards.
URL:https://faithmission.org/event/bible-rallies-2/2022-09-30/
LOCATION:Allander Evangelical Church\, Claremount Gardens\, Milngavie\, G62 6PG
CATEGORIES:Anglo Scottish Border District,General,South Scottish District
ATTACH;FMTTYPE=image/jpeg:https://faithmission.org/wp-content/uploads/2022/01/bible_event1.jpg
END:VEVENT
BEGIN:VEVENT
DTSTART;TZID=Europe/London:20220930T200000
DTEND;TZID=Europe/London:20220930T210000
DTSTAMP:20260424T040715
CREATED:20220831T093218Z
LAST-MODIFIED:20220831T093619Z
UID:7869-1664568000-1664571600@faithmission.org
SUMMARY:Dungannon Rally
DESCRIPTION:This is your invitation to\nDungannon Rally\nIn Bush Protestant Hall\n(kindly granted)\nFriday 30th September 2022 @ 8.00pm\nSpeaker: Garry Tutty\nReport by: Alison Tutty\nSoloist: Elaine Doran\nCome and be encouraged by:\n– Faithful Bible ministry\n– Updates on FM work\n– Christian Fellowship\nYou will be most welcome!
URL:https://faithmission.org/event/dungannon-rally/
CATEGORIES:General,West Irish District
ATTACH;FMTTYPE=image/jpeg:https://faithmission.org/wp-content/uploads/2022/01/bible_event1.jpg
END:VEVENT
BEGIN:VEVENT
DTSTART;TZID=Europe/London:20221001T140000
DTEND;TZID=Europe/London:20221001T150000
DTSTAMP:20260424T040715
CREATED:20220929T231823Z
LAST-MODIFIED:20220929T232415Z
UID:8019-1664632800-1664636400@faithmission.org
SUMMARY:Edinburgh Bible Rallies
DESCRIPTION:At the Faith Mission Centre\, Edinburgh\n548 Gilmerton Road\, EH17 7JD \n1 October\nFMBC Staff & Students \n5 November\nIan Maclean \n3 December\nBrian Liddel \nJoin us at 2pm for ministry in Word and Song\nTea & Coffee served afterwards.
URL:https://faithmission.org/event/edinburgh-bible-rallies/2022-10-01/
LOCATION:Faith Mission Centre\, Edinburgh\, 548 Gilmerton Road\, Edinburgh\, EH17 7JD
CATEGORIES:General,South Scottish District
ATTACH;FMTTYPE=image/jpeg:https://faithmission.org/wp-content/uploads/2022/01/bible_event1.jpg
END:VEVENT
BEGIN:VEVENT
DTSTART;TZID=Europe/London:20221002T153000
DTEND;TZID=Europe/London:20221002T170000
DTSTAMP:20260424T040715
CREATED:20220901T234238Z
LAST-MODIFIED:20220901T234238Z
UID:7898-1664724600-1664730000@faithmission.org
SUMMARY:Maboy Harvest
DESCRIPTION:Speaker Andrew McCullough\nSingers: Wenda Bristow and Elizabeth Wilson\nSunday 2 October at 3.30pm
URL:https://faithmission.org/event/maboy-harvest/
LOCATION:Maboy Mission Hall\, Portglenone
CATEGORIES:General,North Irish District
ATTACH;FMTTYPE=image/jpeg:https://faithmission.org/wp-content/uploads/2022/01/bible_event1.jpg
ORGANIZER;CN="Andrew%20McCullough":MAILTO:north.irish@faithmission.org
END:VEVENT
BEGIN:VEVENT
DTSTART;TZID=Europe/London:20221003T193000
DTEND;TZID=Europe/London:20221003T210000
DTSTAMP:20260424T040715
CREATED:20220926T193001Z
LAST-MODIFIED:20220926T193001Z
UID:7986-1664825400-1664830800@faithmission.org
SUMMARY:Bitesize Bible Studies at Portadown
DESCRIPTION:  \nBitesize Bible Studies\nFaith Mission Bookshop/Cafe\, Magowan Buildings\, Portadown\nMondays at 7.30pm\n3 Oct\, 7 Nov\, 5 Dec\, 9 Jan\, 6 Feb\, 6 Mar \nLight Refreshments and a warm welcome
URL:https://faithmission.org/event/bitesize-bible-studies-at-portadown/2022-10-03/
LOCATION:Portadown Bookshop\, Unit B\, Magowan Buildings\, BT62 3PL
CATEGORIES:General,Irish Border District
ATTACH;FMTTYPE=image/jpeg:https://faithmission.org/wp-content/uploads/Events/FM_Web_EventGraphic_Ladies.jpg
END:VEVENT
BEGIN:VEVENT
DTSTART;TZID=Europe/London:20221005T103000
DTEND;TZID=Europe/London:20221005T120000
DTSTAMP:20260424T040715
CREATED:20220926T192613Z
LAST-MODIFIED:20220926T194659Z
UID:7975-1664965800-1664971200@faithmission.org
SUMMARY:Coffee Mornings at Portadown
DESCRIPTION:Coffee Mornings\nFaith Mission Centre\, Mahon Road\, Portadown\nWednesdays at 10.30am\n5 Oct\, 2 Nov\, 7 Dec\, 4 Jan\, 1 Feb\, 1 Mar\, 12 Apr\, 3 May\, 7 Jun \nLight Refreshments and a warm welcome
URL:https://faithmission.org/event/coffee-mornings-at-portadown/2022-10-05/
LOCATION:Portadown FM Centre\, Mahon Road\,\, Portadown\, BT62 3SF
CATEGORIES:General,Irish Border District,Portadown Centre
ATTACH;FMTTYPE=image/jpeg:https://faithmission.org/wp-content/uploads/Events/FM_Web_EventGraphic_Ladies.jpg
END:VEVENT
BEGIN:VEVENT
DTSTART;TZID=Europe/London:20221006T103000
DTEND;TZID=Europe/London:20221006T113000
DTSTAMP:20260424T040715
CREATED:20220905T214835Z
LAST-MODIFIED:20220905T221206Z
UID:7911-1665052200-1665055800@faithmission.org
SUMMARY:Ladies CAMEO
DESCRIPTION:Ladies CAMEO\nThe Christian Armour\nThursdays at 10.30am in Drumquin Presbyterian Church Hall\nWe warmly invite you to meet with your friends as we look into God’s Word
URL:https://faithmission.org/event/ladies-cameo/2022-10-06/
LOCATION:Drumquin Presbyterian Church\, 2 Castlederg Rd\, Drumquin\,\, Omagh\, BT78 4PH
CATEGORIES:General,West Irish District
ATTACH;FMTTYPE=image/jpeg:https://faithmission.org/wp-content/uploads/Events/FM_Web_EventGraphic_Ladies.jpg
END:VEVENT
BEGIN:VEVENT
DTSTART;TZID=Europe/London:20221008T193000
DTEND;TZID=Europe/London:20221008T203000
DTSTAMP:20260424T040715
CREATED:20220929T220131Z
LAST-MODIFIED:20220930T110511Z
UID:8004-1665257400-1665261000@faithmission.org
SUMMARY:Stranraer Rally
DESCRIPTION:Stranraer Rally\nBellevilla Road\nStranraer\nDG9 8ED \n8 October 2022\n7.30-8.30pm \nSpeaker; Gordon Thomson\nSinger: John Kirk \nChristmas Bookstall Available\nAll Welcome
URL:https://faithmission.org/event/stranraer-rally/
LOCATION:Stranraer Baptist Church\, Bellevilla Road\, Stranraer\, DG9 8ED
CATEGORIES:Anglo Scottish Border District,General,South Scottish District
ATTACH;FMTTYPE=image/jpeg:https://faithmission.org/wp-content/uploads/2022/01/bible_event1.jpg
END:VEVENT
BEGIN:VEVENT
DTSTART;TZID=Europe/London:20221012T200000
DTEND;TZID=Europe/London:20221012T210000
DTSTAMP:20260424T040715
CREATED:20221012T141130Z
LAST-MODIFIED:20221012T141130Z
UID:8070-1665604800-1665608400@faithmission.org
SUMMARY:Autumn Rallies 2022
DESCRIPTION:DONEMANA: WEDNESDAY 12 OCTOBER at 8.00pm\nDonemana Presbyterian Church Hall\nSpeaker: Rev Graeme Orr \nRAPHOE/BALLYHOLEY: THURSDAY 13 OCTOBER at 8.00pm\nRaphoe Congregational Church\nSpeaker: Trevor Matthews \nRAMELTON: FRIDAY 14 OCTOBER at 8.00pm\nRamelton Town Hall\nSpeaker: Trevor Matthews \nLIMAVADY: MONDAY 17 OCTOBER at 8.00pm\nFirst Limavady Presbyterian Church\nSpeaker: Andrew Mcllroy \nDONEGAL: TUESDAY 25 OCTOBER at 8.00pm\nDonegal Town Methodist Church\nSpeaker: William Harrison \nEvervone Welcome!\nAll meetings are at 8.00pm\nChairman: William Harrison\nSpecial Singing and Workers Reports\nChristmas Bookstall
URL:https://faithmission.org/event/autumn-rallies-2022/2022-10-12/
CATEGORIES:General,North West Irish District
ATTACH;FMTTYPE=image/jpeg:https://faithmission.org/wp-content/uploads/2022/01/bible_event1.jpg
END:VEVENT
BEGIN:VEVENT
DTSTART;TZID=Europe/London:20221014T200000
DTEND;TZID=Europe/London:20221014T210000
DTSTAMP:20260424T040715
CREATED:20220831T092700Z
LAST-MODIFIED:20220831T093708Z
UID:7863-1665777600-1665781200@faithmission.org
SUMMARY:Castlederg Rally
DESCRIPTION:This is your invitation to\nCASTLEDERG RALLY\nIn Castlederg Elim Church\n(kindly granted)\nFriday 14th October 2022 @ 8.00pm\nSpeaker: Pastor Mervyn Carter\nReport by: Heather Wilson\nSoloist: Gordon Quinn\nCome and be encouraged by:\n– Faithful Bible ministry\n– Updates on FM work\n– Christian Fellowship\nYou will be most welcome!
URL:https://faithmission.org/event/castlederg-rally/
LOCATION:Castlederg Elim Church\, Strabane Road\, Castlederg\, BT81 7HZ
CATEGORIES:General,West Irish District
ATTACH;FMTTYPE=image/jpeg:https://faithmission.org/wp-content/uploads/2022/01/bible_event1.jpg
END:VEVENT
BEGIN:VEVENT
DTSTART;TZID=Europe/London:20221014T200000
DTEND;TZID=Europe/London:20221014T210000
DTSTAMP:20260424T040715
CREATED:20220904T211134Z
LAST-MODIFIED:20220904T211140Z
UID:7908-1665777600-1665781200@faithmission.org
SUMMARY:Men's Night Out
DESCRIPTION:Friday 14th October at 8pm\nAt the Faith Mission Centre\, Ballymena\nMusic: John Porter\nSpeaker: Philip Cameron\nHot Foot and Fellowship\nYou will be very welcome
URL:https://faithmission.org/event/mens-night-out/
LOCATION:Faith Mission Centre\, Ballymena\, 57 High Street\, Ballymena\, BT43 6DT
CATEGORIES:General,North Irish District
ATTACH;FMTTYPE=image/jpeg:https://faithmission.org/wp-content/uploads/Events/FM_Web_EventGraphic_Mens.jpg
ORGANIZER;CN="Andrew%20McCullough":MAILTO:north.irish@faithmission.org
END:VEVENT
BEGIN:VEVENT
DTSTART;TZID=Europe/London:20221015T193000
DTEND;TZID=Europe/London:20221015T203000
DTSTAMP:20260424T040715
CREATED:20221005T172030Z
LAST-MODIFIED:20221005T172030Z
UID:8031-1665862200-1665865800@faithmission.org
SUMMARY:Banestown Rally
DESCRIPTION:Lisburn CWU Hall\nSaturday 15 October at 7.30pm\nSpeaker: Garry Tutty
URL:https://faithmission.org/event/banestown-rally/
LOCATION:Lisburn CWU Hall\, Market Street\, Lisburn\, BT28 1AB
CATEGORIES:Central Irish District,General
ATTACH;FMTTYPE=image/jpeg:https://faithmission.org/wp-content/uploads/2022/01/bible_event1.jpg
END:VEVENT
BEGIN:VEVENT
DTSTART;TZID=Europe/London:20221019T200000
DTEND;TZID=Europe/London:20221019T210000
DTSTAMP:20260424T040715
CREATED:20220831T094345Z
LAST-MODIFIED:20220831T094345Z
UID:7874-1666209600-1666213200@faithmission.org
SUMMARY:Letterbreen Rally
DESCRIPTION:This is your invitation to\nLETTERBREEN RALLY\nIn Letterbreen Methodist Church Hall\n(kindly granted)\nWednesday 19th October 2022 @ 8.00pm\nSpeaker: Brian Parker\n(Brian will also report on FM work in Co. Cavan)\nCome and be encouraged by:\n– Faithful Bible ministry\n– Updates on FM work\n– Christian Fellowship\nYou will be most welcome!
URL:https://faithmission.org/event/letterbreen-rally/
LOCATION:Letterbreen Methodist Church\, Enniskillen\, BT74 9AY
CATEGORIES:General,West Irish District
ATTACH;FMTTYPE=image/jpeg:https://faithmission.org/wp-content/uploads/2022/01/bible_event1.jpg
END:VEVENT
BEGIN:VEVENT
DTSTART;TZID=Europe/London:20221020T200000
DTEND;TZID=Europe/London:20221020T210000
DTSTAMP:20260424T040715
CREATED:20220831T091904Z
LAST-MODIFIED:20220831T092016Z
UID:7861-1666296000-1666299600@faithmission.org
SUMMARY:Ballygawley Rally
DESCRIPTION:This is your invitation to\nBallygawley Rally\nIn Smyth Memorial Hall\n(kindly granted)\nThursday 20th October 2022 @ 8.00pm\nSpeaker: Leslie Brush\nSingers: Brian & Ruth Agnew\nReport by: Heather Wilson\nCome and be encouraged by:\n– Faithful Bible ministry\n– Updates on FM work\n– Christian Fellowship\nYou will be most welcome!
URL:https://faithmission.org/event/ballygawley-rally/
CATEGORIES:General,West Irish District
ATTACH;FMTTYPE=image/jpeg:https://faithmission.org/wp-content/uploads/2022/01/bible_event1.jpg
END:VEVENT
BEGIN:VEVENT
DTSTART;TZID=Europe/London:20221021T200000
DTEND;TZID=Europe/London:20221021T210000
DTSTAMP:20260424T040715
CREATED:20220831T092914Z
LAST-MODIFIED:20220831T093054Z
UID:7866-1666382400-1666386000@faithmission.org
SUMMARY:Clabby Rally
DESCRIPTION:This is your invitation to\nIn Clabby Orange Hall\n(kindly granted)\nFriday 21st October 2022 @ 8.00pm\nSpeaker: David Burke\nSoloist: Karl Irvine\nReport by: Robert Little\nCome and be encouraged by:\n– Faithful Bible ministry\n– Updates on FM work\n– Christian Fellowship\nYou will be most welcome!
URL:https://faithmission.org/event/clabby-rally/
CATEGORIES:General,West Irish District
ATTACH;FMTTYPE=image/jpeg:https://faithmission.org/wp-content/uploads/2022/01/bible_event1.jpg
END:VEVENT
BEGIN:VEVENT
DTSTART;TZID=Europe/London:20221025T193000
DTEND;TZID=Europe/London:20221025T203000
DTSTAMP:20260424T040715
CREATED:20221017T141624Z
LAST-MODIFIED:20221018T132716Z
UID:8084-1666726200-1666729800@faithmission.org
SUMMARY:Hope For Life
DESCRIPTION:  \nIsle of Tiree\nTuesday 25 – Saturday 30 October\nBaugh Church\nEach night at 7.30pm\nChristmas Bookstall Available Tuesday – Saturday \nMeetings conducted by Donnie Macleod & Jeff Townend
URL:https://faithmission.org/event/hope-for-life-3/2022-10-25/
CATEGORIES:General,Highland District
ATTACH;FMTTYPE=image/jpeg:https://faithmission.org/wp-content/uploads/2022/01/bible_event1.jpg
END:VEVENT
BEGIN:VEVENT
DTSTART;TZID=Europe/London:20221025T200000
DTEND;TZID=Europe/London:20221025T210000
DTSTAMP:20260424T040715
CREATED:20221023T155226Z
LAST-MODIFIED:20221023T155515Z
UID:8115-1666728000-1666731600@faithmission.org
SUMMARY:Donegal Town Rally 2022
DESCRIPTION:  \nTuesday 25 October at 8.00pm \nIn The Methodist Church\nChairman & Speaker: William Harrison \nChristmas bookstall \nAll very welcome
URL:https://faithmission.org/event/donegal-town-rally-2022/
CATEGORIES:General,North West Irish District
ATTACH;FMTTYPE=image/jpeg:https://faithmission.org/wp-content/uploads/2022/01/bible_event1.jpg
END:VEVENT
BEGIN:VEVENT
DTSTART;VALUE=DATE:20221029
DTEND;VALUE=DATE:20221030
DTSTAMP:20260424T040715
CREATED:20221014T230225Z
LAST-MODIFIED:20221023T081001Z
UID:8080-1667001600-1667087999@faithmission.org
SUMMARY:Journey 2 Where?
DESCRIPTION:Saturday 29 October\nCars\, Concert\, Craic\,\nCar Show@ 6.30-7.30pm\nPrize Awarded for both classes \nConcert @ 7.30-9.00pm\nHosted & Life Stories from Gospel Truck Youth.  All ages warmly welcome.  Supper afterwards \nSunday 30 October\nAn evening of worship@ 8.15pm\nIncluding life stories and a Message of Hope\nWorship: Jonny Lennox\nTestimony: Amy Lennox\nSpeaker: Graeme Orr \nMonday 31 October\nBible Club 4.00-5.30pm\nIf you’re primary school age\, we’d love to see you \nBBQ @ 5.30-6.30pm for parents and children \nPraise Evening @ 8.00pm by Reality Music with Life Stories of God’s transformational power. \n  \n  \n  \n 
URL:https://faithmission.org/event/journey-2-where/2022-10-29/
CATEGORIES:General,Gospel Truck,North Irish District
ATTACH;FMTTYPE=image/jpeg:https://faithmission.org/wp-content/uploads/2022/01/outreach_event1.jpg
END:VEVENT
BEGIN:VEVENT
DTSTART;TZID=Europe/London:20221030T143000
DTEND;TZID=Europe/London:20221030T153000
DTSTAMP:20260424T040715
CREATED:20220831T094602Z
LAST-MODIFIED:20220831T094602Z
UID:7877-1667140200-1667143800@faithmission.org
SUMMARY:Milltown Drive In Rally
DESCRIPTION:This is your invitation to\nMilltown Drive-In Rally\nAt Iris Russell’s Home\nSunday 30th October 2022 @ 3.30pm\nSpeaker: Rev. Graeme Orr\nSoloist: Jolene Buchanan\nCome and be encouraged by:\n– Faithful Bible ministry\n– Updates on FM work\n– Christian Fellowship
URL:https://faithmission.org/event/milltown-drive-in-rally/
CATEGORIES:General,West Irish District
ATTACH;FMTTYPE=image/jpeg:https://faithmission.org/wp-content/uploads/Events/FM_Web_EventGraphic_Drive_in.jpg
END:VEVENT
BEGIN:VEVENT
DTSTART;TZID=Europe/London:20221030T143000
DTEND;TZID=Europe/London:20221030T153000
DTSTAMP:20260424T040715
CREATED:20221024T183450Z
LAST-MODIFIED:20221024T184241Z
UID:8134-1667140200-1667143800@faithmission.org
SUMMARY:Castlederg Gospel Mission
DESCRIPTION:Commencing Sunday 30 October at 3\,30pm\nMonday – Friday at 8pm and continuing throughout the month of November
URL:https://faithmission.org/event/castlederg-gospel-mission/2022-10-30/
CATEGORIES:General,West Irish District
ATTACH;FMTTYPE=image/jpeg:https://faithmission.org/wp-content/uploads/2022/01/gospel_event-1.jpg
END:VEVENT
BEGIN:VEVENT
DTSTART;TZID=Europe/London:20221104T183000
DTEND;TZID=Europe/London:20221104T193000
DTSTAMP:20260424T040715
CREATED:20221005T172204Z
LAST-MODIFIED:20221005T172204Z
UID:8033-1667586600-1667590200@faithmission.org
SUMMARY:Killyleagh Rally
DESCRIPTION:Killyleagh Baptist Church\nFriday 4 November at 7.30pm\nSpeaker: Garry Tutty
URL:https://faithmission.org/event/killyleagh-rally-2/
LOCATION:Killyleagh Baptist Church\, 55 Clea Lough Road\, Killyleagh\, BT30 9SZ
CATEGORIES:Central Irish District,General
ATTACH;FMTTYPE=image/jpeg:https://faithmission.org/wp-content/uploads/2022/01/bible_event1.jpg
END:VEVENT
BEGIN:VEVENT
DTSTART;TZID=Europe/London:20221104T183000
DTEND;TZID=Europe/London:20221104T193000
DTSTAMP:20260424T040715
CREATED:20221101T231556Z
LAST-MODIFIED:20221101T231604Z
UID:8183-1667586600-1667590200@faithmission.org
SUMMARY:Allander Bible Rally
DESCRIPTION:Friday 4 November\, 7.30-8.30pm\nSpeaker: Albert Mawhinney\nSingers: Peter & Helen Stobart
URL:https://faithmission.org/event/allander-bible-rally-2/
LOCATION:Allander Evangelical Church\, Claremount Gardens\, Milngavie\, G62 6PG
CATEGORIES:General,South Scottish District
ATTACH;FMTTYPE=image/jpeg:https://faithmission.org/wp-content/uploads/2022/01/bible_event1.jpg
END:VEVENT
BEGIN:VEVENT
DTSTART;TZID=Europe/London:20221104T190000
DTEND;TZID=Europe/London:20221104T200000
DTSTAMP:20260424T040715
CREATED:20221018T103008Z
LAST-MODIFIED:20221018T103138Z
UID:8094-1667588400-1667592000@faithmission.org
SUMMARY:Clodrum Rally
DESCRIPTION:  \n \nWest Irish District\nThis is your invitation to \nClodrum Rally\nIn Clodrum Mission Hall\non\nFriday 4th November 2022 @ 8.00pm\nSpeaker & Soloist: Gareth Rooney\nCome and be encouraged by:\n– Faithful Bible ministry\n– Updates on FM work\n– Christian Fellowship\nYou will be most welcome!
URL:https://faithmission.org/event/clodrum-rally/
CATEGORIES:General,West Irish District
ATTACH;FMTTYPE=image/jpeg:https://faithmission.org/wp-content/uploads/2022/01/bible_event1.jpg
END:VEVENT
END:VCALENDAR