BEGIN:VCALENDAR
VERSION:2.0
PRODID:-//Faith Mission - ECPv5.4.0.2//NONSGML v1.0//EN
CALSCALE:GREGORIAN
METHOD:PUBLISH
X-WR-CALNAME:Faith Mission
X-ORIGINAL-URL:https://faithmission.org
X-WR-CALDESC:Events for Faith Mission
BEGIN:VTIMEZONE
TZID:Europe/London
BEGIN:DAYLIGHT
TZOFFSETFROM:+0000
TZOFFSETTO:+0100
TZNAME:BST
DTSTART:20230326T010000
END:DAYLIGHT
BEGIN:STANDARD
TZOFFSETFROM:+0100
TZOFFSETTO:+0000
TZNAME:GMT
DTSTART:20231029T010000
END:STANDARD
END:VTIMEZONE
BEGIN:VEVENT
DTSTART;VALUE=DATE:20230602
DTEND;VALUE=DATE:20230606
DTSTAMP:20260422T172558
CREATED:20230421T073014Z
LAST-MODIFIED:20230421T073014Z
UID:8787-1685664000-1686009599@faithmission.org
SUMMARY:Bandon Convention
DESCRIPTION:Full details on brochure HERE
URL:https://faithmission.org/event/bandon-convention-2/
LOCATION:Carhue Centre\, Carhoon East\, Co. Cork\, 51.743037\, -8.814739
CATEGORIES:General,South West Irish District
ATTACH;FMTTYPE=image/jpeg:https://faithmission.org/wp-content/uploads/2022/01/bible_event1.jpg
END:VEVENT
BEGIN:VEVENT
DTSTART;VALUE=DATE:20230604
DTEND;VALUE=DATE:20230619
DTSTAMP:20260422T172558
CREATED:20230526T010134Z
LAST-MODIFIED:20230526T010644Z
UID:8906-1685836800-1687132799@faithmission.org
SUMMARY:Point Gospel Mission
DESCRIPTION:Point Tent Mission\n(Beside Tiumpan Community Centre)\nSunday 4 – Sunday 18 June\nevery night at 7.30pm (except Saturday)\nCoffee mornings – Friday 9 & 16 at 10.30am\nRejuvenate youth might – Friday 9 at 9.00pm\nBarbecue – Saturday 17 at 4.00pm
URL:https://faithmission.org/event/point-gospel-mission/
CATEGORIES:General,Highland District
ATTACH;FMTTYPE=image/jpeg:https://faithmission.org/wp-content/uploads/2022/01/gospel_event-1.jpg
END:VEVENT
BEGIN:VEVENT
DTSTART;TZID=Europe/London:20230616T200000
DTEND;TZID=Europe/London:20230616T210000
DTSTAMP:20260422T172558
CREATED:20230606T105459Z
LAST-MODIFIED:20230606T105459Z
UID:8968-1686945600-1686949200@faithmission.org
SUMMARY:Roe Valley Bible Weekend
DESCRIPTION:Largy Community Hall\n16-18 June 2023\nFriday and Saturday at 8.00pm\nSunday at 8.15pm\nSpeaker: Gordon Thomson\nChairman: William Harrison\nSingers: Friday: The Condy Brothers\nSaturday: Castlegore Singers\nSunday: Brian & Ruth Agnew \nLadies Coffee Morning\nSaturday 17 June at 10.30am\nSpeaker: Heather Wilson\nSubject: I am the Bread of Life
URL:https://faithmission.org/event/roe-valley-bible-weekend-2/2023-06-16/
LOCATION:Largy Community Hall\, 125 Drumrane Road\,\, Limavady\, BT49 9LQ
CATEGORIES:General,North West Irish District
ATTACH;FMTTYPE=image/jpeg:https://faithmission.org/wp-content/uploads/2022/01/bible_event1.jpg
GEO:55.009599;-6.949844
X-APPLE-STRUCTURED-LOCATION;VALUE=URI;X-ADDRESS=Largy Community Hall 125 Drumrane Road Limavady BT49 9LQ;X-APPLE-RADIUS=500;X-TITLE=125 Drumrane Road\,:geo:-6.949844,55.009599
END:VEVENT
BEGIN:VEVENT
DTSTART;TZID=Europe/London:20230616T200000
DTEND;TZID=Europe/London:20230616T210000
DTSTAMP:20260422T172558
CREATED:20230612T204619Z
LAST-MODIFIED:20230612T204905Z
UID:8984-1686945600-1686949200@faithmission.org
SUMMARY:Ards Weekend with the Gospel Truck
DESCRIPTION:Friday 16 June at 8.00pm – Drive in at Harrisons of Greyabbey\nSpeaking and Singing: Rev Paul Acheson \nSaturday 17 June at 7.00pm – Portavogie Harbour\nWith various Christian artists\,\nSpeaking: John Weir\nOffering towards RNLI \nSunday 18 Juneat3.30pm -Drive in at Ballyhalbert Old Runway\nSinging: Maybin Family\nSpeaking: Billy Davison \nEveryone Welcome
URL:https://faithmission.org/event/ards-weekend-with-the-gospel-truck/2023-06-16/
CATEGORIES:Central Irish District,General,Gospel Truck
ATTACH;FMTTYPE=image/jpeg:https://faithmission.org/wp-content/uploads/2022/01/outreach_event1.jpg
END:VEVENT
BEGIN:VEVENT
DTSTART;TZID=Europe/London:20230617T190000
DTEND;TZID=Europe/London:20230617T203000
DTSTAMP:20260422T172558
CREATED:20230316T134214Z
LAST-MODIFIED:20230316T135001Z
UID:8669-1687028400-1687033800@faithmission.org
SUMMARY:Portavogie Drive In
DESCRIPTION:Hymns of the Sea\nSaturday 17 June at 7pm
URL:https://faithmission.org/event/portavogie-drive-in/
CATEGORIES:Central Irish District,General,Gospel Truck
ATTACH;FMTTYPE=image/jpeg:https://faithmission.org/wp-content/uploads/Events/FM_Web_EventGraphic_Drive_in.jpg
END:VEVENT
BEGIN:VEVENT
DTSTART;TZID=Europe/London:20230618T153000
DTEND;TZID=Europe/London:20230618T170000
DTSTAMP:20260422T172558
CREATED:20230608T222403Z
LAST-MODIFIED:20230608T222403Z
UID:8976-1687102200-1687107600@faithmission.org
SUMMARY:Fintona Drive In
DESCRIPTION:@ the Ecclesville Centre\n(kindly granted)\nSunday 18 June @ 3.30pm\nSinger: Mark Donnelly\nSpeaker: George Barkley \n 
URL:https://faithmission.org/event/fintona-drive-in/
LOCATION:Ecclesville Centre\, Fintona\, BT78 2EF
CATEGORIES:General,West Irish District
ATTACH;FMTTYPE=image/jpeg:https://faithmission.org/wp-content/uploads/Events/FM_Web_EventGraphic_Drive_in.jpg
END:VEVENT
BEGIN:VEVENT
DTSTART;TZID=Europe/London:20230625T150000
DTEND;TZID=Europe/London:20230625T163000
DTSTAMP:20260422T172558
CREATED:20230530T194650Z
LAST-MODIFIED:20230608T221812Z
UID:8934-1687705200-1687710600@faithmission.org
SUMMARY:Curglassan Drive-In Service
DESCRIPTION:In Johnston’s Field at Sans Souci\nCurglassan\nSunday 25 June at 3.00pm\nSpeaker: George Conn\nSoloist: Amanda Reid\nEveryone Welcome
URL:https://faithmission.org/event/curglassan-drive-in-service/
CATEGORIES:General,West Irish District
ATTACH;FMTTYPE=image/jpeg:https://faithmission.org/wp-content/uploads/Events/FM_Web_EventGraphic_Drive_in.jpg
END:VEVENT
END:VCALENDAR