BEGIN:VCALENDAR
VERSION:2.0
PRODID:-//Faith Mission - ECPv5.4.0.2//NONSGML v1.0//EN
CALSCALE:GREGORIAN
METHOD:PUBLISH
X-WR-CALNAME:Faith Mission
X-ORIGINAL-URL:https://faithmission.org
X-WR-CALDESC:Events for Faith Mission
BEGIN:VTIMEZONE
TZID:Europe/London
BEGIN:DAYLIGHT
TZOFFSETFROM:+0000
TZOFFSETTO:+0100
TZNAME:BST
DTSTART:20240331T010000
END:DAYLIGHT
BEGIN:STANDARD
TZOFFSETFROM:+0100
TZOFFSETTO:+0000
TZNAME:GMT
DTSTART:20241027T010000
END:STANDARD
END:VTIMEZONE
BEGIN:VEVENT
DTSTART;TZID=Europe/London:20240105T183000
DTEND;TZID=Europe/London:20240105T193000
DTSTAMP:20260421T111813
CREATED:20231031T024000Z
LAST-MODIFIED:20231031T024000Z
UID:9450-1704479400-1704483000@faithmission.org
SUMMARY:Bible Rallies - Allander
DESCRIPTION:Allander Evangelical Church\nDouglas Street\, Milngarvie\, Glasgow \n5 January at 7.30pm\nSpeaker: Eric Scott \nJoin us for ministry in Word and song\nTea & Coffee served afterwards.
URL:https://faithmission.org/event/bible-rallies-allander-3/
LOCATION:Allander Evangelical Church\, Claremount Gardens\, Milngavie\, G62 6PG
CATEGORIES:General,South Scottish District
ATTACH;FMTTYPE=image/jpeg:https://faithmission.org/wp-content/uploads/2022/01/bible_event1.jpg
END:VEVENT
BEGIN:VEVENT
DTSTART;TZID=Europe/London:20240106T130000
DTEND;TZID=Europe/London:20240106T140000
DTSTAMP:20260421T111813
CREATED:20231031T104202Z
LAST-MODIFIED:20231031T104202Z
UID:9460-1704546000-1704549600@faithmission.org
SUMMARY:Edinburgh Bible Rallies
DESCRIPTION:The Faith Mission Centre\,\n548 Gilmerton Road\, Edinburgh \n6 January at 2.00pm\nEric Scott \nRefreshments are served afterwards\nEveryone is welcome \n  \n 
URL:https://faithmission.org/event/edinburgh-bible-rallies-2/
LOCATION:Faith Mission Centre\, Edinburgh\, 548 Gilmerton Road\, Edinburgh\, EH17 7JD
CATEGORIES:General,South Scottish District
ATTACH;FMTTYPE=image/jpeg:https://faithmission.org/wp-content/uploads/2022/01/bible_event1.jpg
END:VEVENT
BEGIN:VEVENT
DTSTART;TZID=Europe/London:20240106T183000
DTEND;TZID=Europe/London:20240106T200000
DTSTAMP:20260421T111813
CREATED:20231122T155321Z
LAST-MODIFIED:20231122T155452Z
UID:9580-1704565800-1704571200@faithmission.org
SUMMARY:Stewartstown Centenary Rally
DESCRIPTION:This is your invitation to\nStewartstown Centenary Rally\nIn the McNeece Hall\n(kindly granted by Stewartstown Presbyterian church)\nSaturday 6 January 2024 @ 7.30pm\nSpeaker: George Conn\nSinger: Andrea Conn \n\nReports by Heather Wilson & Robert Little\nShort history of the Prayer Union through the\ncentury\nPhotos on display\nRefreshments served
URL:https://faithmission.org/event/stewartstown-centenary-rally/
LOCATION:McNeece Memorial Hall\, Main Street\, Stewartstown\, BT71 5HR
CATEGORIES:General,West Irish District
ATTACH;FMTTYPE=image/jpeg:https://faithmission.org/wp-content/uploads/2022/01/bible_event1.jpg
END:VEVENT
BEGIN:VEVENT
DTSTART;TZID=Europe/London:20240113T090000
DTEND;TZID=Europe/London:20240113T113000
DTSTAMP:20260421T111813
CREATED:20240103T210314Z
LAST-MODIFIED:20240103T210314Z
UID:9643-1705136400-1705145400@faithmission.org
SUMMARY:Morning of Prayer - Durrow
DESCRIPTION:
URL:https://faithmission.org/event/morning-of-prayer-durrow/
LOCATION:Durrow Centre\, Knocknagrally\, Durrow\, R32 HX23\, Ireland
CATEGORIES:General,Irish Midlands District
ATTACH;FMTTYPE=image/jpeg:https://faithmission.org/wp-content/uploads/2022/01/prayer_event1.jpg
END:VEVENT
BEGIN:VEVENT
DTSTART;TZID=Europe/London:20240113T190000
DTEND;TZID=Europe/London:20240113T203000
DTSTAMP:20260421T111813
CREATED:20231220T233742Z
LAST-MODIFIED:20231220T233901Z
UID:9594-1705172400-1705177800@faithmission.org
SUMMARY:Rejuvenate Ballymena
DESCRIPTION:Saturday 13 January at 8pm \nSpeaker: Rev Stephen McNie \nSinger: Dean Davidson
URL:https://faithmission.org/event/rejuvenate-ballymena-2/
LOCATION:Faith Mission Centre\, Ballymena\, 57 High Street\, Ballymena\, BT43 6DT
CATEGORIES:General,North Irish District
ATTACH;FMTTYPE=image/jpeg:https://faithmission.org/wp-content/uploads/2022/01/youth_event1.jpg
ORGANIZER;CN="Andrew%20McCullough":MAILTO:north.irish@faithmission.org
END:VEVENT
BEGIN:VEVENT
DTSTART;TZID=Europe/London:20240119T200000
DTEND;TZID=Europe/London:20240119T210000
DTSTAMP:20260421T111813
CREATED:20231221T030318Z
LAST-MODIFIED:20240120T174702Z
UID:9615-1705694400-1705698000@faithmission.org
SUMMARY:New Beginnings Weekend
DESCRIPTION:Each Night at 8.00pm\nSpeaker: Derek Maxwell\nFriday Night: Local FM Focus\nSaturday Night: Eastern European Focus\nSunday: Irish Midlands Focus
URL:https://faithmission.org/event/new-beginnings-weekend-2/2024-01-19/
LOCATION:Silverbirch Hotel\, 5 Gortin Road\,\, Omagh\, Co.Tyrone\, BT797DH
CATEGORIES:General,West Irish District
ATTACH;FMTTYPE=image/jpeg:https://faithmission.org/wp-content/uploads/2022/01/bible_event1.jpg
END:VEVENT
BEGIN:VEVENT
DTSTART;TZID=Europe/London:20240119T200000
DTEND;TZID=Europe/London:20240119T210000
DTSTAMP:20260421T111814
CREATED:20240117T100311Z
LAST-MODIFIED:20240117T100311Z
UID:9678-1705694400-1705698000@faithmission.org
SUMMARY:Cullyvenny Rally 2024
DESCRIPTION:FRIDAY 19 JANUARY @ 8.00 PM\nheld in\nCULLYVENNY MISSION HALL \nSpeaker : Mr Trevor Matthews\nMusic : Michael & Hazel Saunderson\nChairman : William Harrison
URL:https://faithmission.org/event/cullyvenny-rally-2024/
LOCATION:Cullyvenny Mission Hall\, 55.072456\, -6.653059
CATEGORIES:General,North West Irish District
ATTACH;FMTTYPE=image/jpeg:https://faithmission.org/wp-content/uploads/2022/01/bible_event1.jpg
END:VEVENT
BEGIN:VEVENT
DTSTART;TZID=Europe/London:20240120T090000
DTEND;TZID=Europe/London:20240120T143000
DTSTAMP:20260421T111814
CREATED:20231221T003901Z
LAST-MODIFIED:20231221T003901Z
UID:9599-1705741200-1705761000@faithmission.org
SUMMARY:Day of Prayer & Fellowship
DESCRIPTION:Ballymena Faith Mission Centre \nSaturday 20th January 2024\n10:00am Tea\, Coffee\n10:30am  Morning Session\n12.30pm Lunch (please RSVP)\n1.45pm Afternoon Session \nGeorge Conn will bring devotional ministry\nFor more details or to book for lunch\, please contact:\nAndrew & Jenny McCullough\nTel: 028 2565 6494
URL:https://faithmission.org/event/day-of-prayer-fellowship-2/
LOCATION:Faith Mission Centre\, Ballymena\, 57 High Street\, Ballymena\, BT43 6DT
CATEGORIES:General,North Irish District
ATTACH;FMTTYPE=image/jpeg:https://faithmission.org/wp-content/uploads/2022/01/prayer_event1.jpg
ORGANIZER;CN="Andrew%20McCullough":MAILTO:north.irish@faithmission.org
END:VEVENT
BEGIN:VEVENT
DTSTART;TZID=Europe/London:20240120T190000
DTEND;TZID=Europe/London:20240120T203000
DTSTAMP:20260421T111814
CREATED:20240105T103614Z
LAST-MODIFIED:20240105T103614Z
UID:9655-1705777200-1705782600@faithmission.org
SUMMARY:The Barn
DESCRIPTION:Saturday 20 January at 8pm\nWorship by the Lifeboat Youth\nSpeaker: David Lyttle (Missionary in Greece)\nFood and Fellowship after. \nAll Teens and Twenties Welcome.
URL:https://faithmission.org/event/the-barn/
LOCATION:Lifeboat Fellowship\, 89 Old Moy Road\, Dungannon\, BT71 6PX
CATEGORIES:West Irish District
ATTACH;FMTTYPE=image/jpeg:https://faithmission.org/wp-content/uploads/2022/01/youth_event1.jpg
END:VEVENT
BEGIN:VEVENT
DTSTART;TZID=Europe/London:20240122T200000
DTEND;TZID=Europe/London:20240122T210000
DTSTAMP:20260421T111814
CREATED:20231221T010002Z
LAST-MODIFIED:20240120T174911Z
UID:9602-1705953600-1705957200@faithmission.org
SUMMARY:Ballynafie Rally
DESCRIPTION:Monday 22 January at 8pm\nSpeaker: Rev Ian Gilkinson\nSinger: Mrs Catherine Anderson\nSUPPER SERVED \nPlease do join us\, you will be very welcome!
URL:https://faithmission.org/event/ballynafie-rally-2/
LOCATION:Ballynafie Mission Hall\, 54.854341\, -6.430688
CATEGORIES:General,North Irish District
ATTACH;FMTTYPE=image/jpeg:https://faithmission.org/wp-content/uploads/2022/01/bible_event1.jpg
ORGANIZER;CN="Andrew%20McCullough":MAILTO:north.irish@faithmission.org
END:VEVENT
BEGIN:VEVENT
DTSTART;TZID=Europe/London:20240124T200000
DTEND;TZID=Europe/London:20240124T210000
DTSTAMP:20260421T111814
CREATED:20231221T010327Z
LAST-MODIFIED:20240120T175011Z
UID:9604-1706126400-1706130000@faithmission.org
SUMMARY:Ballymoney Rally
DESCRIPTION:Wednesday 24 January at 8pm\nIn Leaney Mission Hall\nSpeaker: Rev Hugh Mullan\nSinger: Mr John Porter\nSUPPER SERVED \nPlease do join us\, you will be very welcome!
URL:https://faithmission.org/event/ballymoney-rally-2/
LOCATION:Leaney Mission Hall
CATEGORIES:General,North Irish District
ATTACH;FMTTYPE=image/jpeg:https://faithmission.org/wp-content/uploads/2022/01/bible_event1.jpg
ORGANIZER;CN="Andrew%20McCullough":MAILTO:north.irish@faithmission.org
END:VEVENT
BEGIN:VEVENT
DTSTART;TZID=Europe/London:20240124T200000
DTEND;TZID=Europe/London:20240124T210000
DTSTAMP:20260421T111814
CREATED:20240120T015521Z
LAST-MODIFIED:20240120T015616Z
UID:9698-1706126400-1706130000@faithmission.org
SUMMARY:Straid Rally
DESCRIPTION:In Straid Congregational Church Hall\nWednesday 24th January at 8.00pm\nSoloist: Garry Tutty\nReport: Naomi Dudgeon\nSpeaker: Garry Tutty\nEnjoy good fellowship & ministry and hear up – to –date\nnews of Faith Mission work\nAll warmly invited – come and bring others
URL:https://faithmission.org/event/straid-rally-3/
LOCATION:Straid Congregational Church\, 9-11 Main St\, Straid\,\, Ballyclare\, BT39 9NE
CATEGORIES:Central Irish District,General
ATTACH;FMTTYPE=image/jpeg:https://faithmission.org/wp-content/uploads/2022/01/bible_event1.jpg
END:VEVENT
BEGIN:VEVENT
DTSTART;TZID=Europe/London:20240125T200000
DTEND;TZID=Europe/London:20240125T213000
DTSTAMP:20260421T111814
CREATED:20231221T015255Z
LAST-MODIFIED:20240120T175318Z
UID:9611-1706212800-1706218200@faithmission.org
SUMMARY:Focus Evening
DESCRIPTION:When: 25 January at 8pm \nWhere: Keady 2nd Presbyterian Church Hall \nSpeaker: Rev William Anderson\nWilliam is a retired Church of Ireland minister\, having served in a couple of different congregations.  He now travels throughout the province sharing God’s Word. \nUpdates: From Brian Parker & Simon Walsh \nAll are welcome to find out more about the work of The Faith Mission in the Irish Border District \nRefreshments provided afterwards \n 
URL:https://faithmission.org/event/focus-evening/
LOCATION:2nd Keady Presbyterian Church\, 21 Davis St\, Keady\,\, Armagh\, BT60 3RS
CATEGORIES:General,Irish Border District
ATTACH;FMTTYPE=image/jpeg:https://faithmission.org/wp-content/uploads/2022/01/bible_event1.jpg
ORGANIZER;CN="Simon%20Walsh":MAILTO:simon.walsh@faithmission.org
END:VEVENT
BEGIN:VEVENT
DTSTART;TZID=Europe/London:20240126T200000
DTEND;TZID=Europe/London:20240126T210000
DTSTAMP:20260421T111814
CREATED:20240120T015400Z
LAST-MODIFIED:20240120T015400Z
UID:9695-1706299200-1706302800@faithmission.org
SUMMARY:Kinallen Rally
DESCRIPTION:In Kinallen Mission Hall\nFriday 26th January at 8.00pm\nSoloist: Garry Tutty\nReport: Naomi Dudgeon\nSpeaker: David Bennett\nEnjoy good fellowship & ministry and hear up – to –date news of Faith Mission work\nAll warmly invited – come and bring others
URL:https://faithmission.org/event/kinallen-rally/
LOCATION:Kinallen Mission Hall
CATEGORIES:Central Irish District,General
ATTACH;FMTTYPE=image/jpeg:https://faithmission.org/wp-content/uploads/2022/01/bible_event1.jpg
END:VEVENT
BEGIN:VEVENT
DTSTART;TZID=Europe/London:20240126T203000
DTEND;TZID=Europe/London:20240126T220000
DTSTAMP:20260421T111814
CREATED:20240111T001711Z
LAST-MODIFIED:20240120T175147Z
UID:9660-1706301000-1706306400@faithmission.org
SUMMARY:Temp Coffee Bar Mission Weekend
DESCRIPTION:Tempo Coffee Bar Mission Weekend \nSpeakers: John Weir\, Robert Little \nTea & Fellowship Afterwards
URL:https://faithmission.org/event/temp-coffee-bar-mission-weekend/2024-01-26/
LOCATION:Tempo Methodist Church
CATEGORIES:General,West Irish District
ATTACH;FMTTYPE=image/jpeg:https://faithmission.org/wp-content/uploads/2022/01/youth_event1.jpg
END:VEVENT
BEGIN:VEVENT
DTSTART;TZID=Europe/London:20240127T200000
DTEND;TZID=Europe/London:20240127T210000
DTSTAMP:20260421T111814
CREATED:20240116T021640Z
LAST-MODIFIED:20240116T021736Z
UID:9675-1706385600-1706389200@faithmission.org
SUMMARY:A Farming Life Story
DESCRIPTION:Lisdown Mission Hall\nSaturday 27 January 2024 at 8.00pm \nCome and hear Jim Henning’s story\nJim left the family farm to study Dairy Technology at Loughry College.  This led him into various avenues of work in agriculture\, and eventually for 38 years he was the assistant manager of the Dairy processing factory at Banbridge\, Armaghdown Creamery/Fane Valley.\nJim will share\, that even in the pressures of work life\, how vital his faith in Jesus Christ has been. Learning important lessons along the way.\nIn retirement\, Jim keeps a pedigree hear of Hereford cattle and is part of the Rural Chaplaincy Team
URL:https://faithmission.org/event/a-farming-life-story/
LOCATION:Lisdown Mission Hall\, Lisdown Rd\,\, Armagh\, BT60 4PU
CATEGORIES:General,Irish Border District
ATTACH;FMTTYPE=image/jpeg:https://faithmission.org/wp-content/uploads/2022/01/outreach_event1.jpg
ORGANIZER;CN="Simon%20Walsh":MAILTO:simon.walsh@faithmission.org
END:VEVENT
BEGIN:VEVENT
DTSTART;TZID=Europe/London:20240202T193000
DTEND;TZID=Europe/London:20240202T203000
DTSTAMP:20260421T111814
CREATED:20231031T024220Z
LAST-MODIFIED:20240120T175708Z
UID:9452-1706902200-1706905800@faithmission.org
SUMMARY:Bible Rallies - Allander
DESCRIPTION:Allander Evangelical Church\nDouglas Street\, Milngarvie\, Glasgow \n2 February at 7.30pm\nSpeaker: Iain Jamieson \nJoin us for ministry in Word and song\nTea & Coffee served afterwards.
URL:https://faithmission.org/event/bible-rallies-allander-4/
LOCATION:Allander Evangelical Church\, Claremount Gardens\, Milngavie\, G62 6PG
CATEGORIES:General,South Scottish District
ATTACH;FMTTYPE=image/jpeg:https://faithmission.org/wp-content/uploads/2022/01/bible_event1.jpg
END:VEVENT
BEGIN:VEVENT
DTSTART;TZID=Europe/London:20240202T200000
DTEND;TZID=Europe/London:20240202T210000
DTSTAMP:20260421T111814
CREATED:20240124T230046Z
LAST-MODIFIED:20240125T005619Z
UID:9748-1706904000-1706907600@faithmission.org
SUMMARY:Milford Rally 2024
DESCRIPTION:Friday 2 February at 8.00pm\nheld in Milford Mission Hall\nSpeaker: Mr Andrew Maybin\nMusic: The Maybin Family\nChairman: William Harrison
URL:https://faithmission.org/event/milford-rally-2024/
LOCATION:Milford Mission Hall\, Ramelton Rd\,\, Forquar\,\, Co. Donegal\, Ireland
CATEGORIES:General,Gospel Truck,North West Irish District
ATTACH;FMTTYPE=image/jpeg:https://faithmission.org/wp-content/uploads/2022/01/bible_event1.jpg
END:VEVENT
END:VCALENDAR