BEGIN:VCALENDAR
VERSION:2.0
PRODID:-//Faith Mission - ECPv5.4.0.2//NONSGML v1.0//EN
CALSCALE:GREGORIAN
METHOD:PUBLISH
X-WR-CALNAME:Faith Mission
X-ORIGINAL-URL:https://faithmission.org
X-WR-CALDESC:Events for Faith Mission
BEGIN:VTIMEZONE
TZID:Europe/London
BEGIN:DAYLIGHT
TZOFFSETFROM:+0000
TZOFFSETTO:+0100
TZNAME:BST
DTSTART:20240331T010000
END:DAYLIGHT
BEGIN:STANDARD
TZOFFSETFROM:+0100
TZOFFSETTO:+0000
TZNAME:GMT
DTSTART:20241027T010000
END:STANDARD
END:VTIMEZONE
BEGIN:VEVENT
DTSTART;TZID=Europe/London:20240202T193000
DTEND;TZID=Europe/London:20240202T203000
DTSTAMP:20260420T223639
CREATED:20231031T024220Z
LAST-MODIFIED:20240120T175708Z
UID:9452-1706902200-1706905800@faithmission.org
SUMMARY:Bible Rallies - Allander
DESCRIPTION:Allander Evangelical Church\nDouglas Street\, Milngarvie\, Glasgow \n2 February at 7.30pm\nSpeaker: Iain Jamieson \nJoin us for ministry in Word and song\nTea & Coffee served afterwards.
URL:https://faithmission.org/event/bible-rallies-allander-4/
LOCATION:Allander Evangelical Church\, Claremount Gardens\, Milngavie\, G62 6PG
CATEGORIES:General,South Scottish District
ATTACH;FMTTYPE=image/jpeg:https://faithmission.org/wp-content/uploads/2022/01/bible_event1.jpg
END:VEVENT
BEGIN:VEVENT
DTSTART;TZID=Europe/London:20240202T200000
DTEND;TZID=Europe/London:20240202T210000
DTSTAMP:20260420T223639
CREATED:20240124T230046Z
LAST-MODIFIED:20240125T005619Z
UID:9748-1706904000-1706907600@faithmission.org
SUMMARY:Milford Rally 2024
DESCRIPTION:Friday 2 February at 8.00pm\nheld in Milford Mission Hall\nSpeaker: Mr Andrew Maybin\nMusic: The Maybin Family\nChairman: William Harrison
URL:https://faithmission.org/event/milford-rally-2024/
LOCATION:Milford Mission Hall\, Ramelton Rd\,\, Forquar\,\, Co. Donegal\, Ireland
CATEGORIES:General,Gospel Truck,North West Irish District
ATTACH;FMTTYPE=image/jpeg:https://faithmission.org/wp-content/uploads/2022/01/bible_event1.jpg
END:VEVENT
BEGIN:VEVENT
DTSTART;TZID=Europe/London:20240203T140000
DTEND;TZID=Europe/London:20240203T150000
DTSTAMP:20260420T223639
CREATED:20231031T104302Z
LAST-MODIFIED:20240120T175955Z
UID:9462-1706968800-1706972400@faithmission.org
SUMMARY:Edinburgh Bible Rallies
DESCRIPTION:The Faith Mission Centre\,\n548 Gilmerton Road\, Edinburgh \n3 February at 2.00pm\nSandy Roger \nRefreshments are served afterwards\nEveryone is welcome \n  \n 
URL:https://faithmission.org/event/edinburgh-bible-rallies-3/
LOCATION:Faith Mission Centre\, Edinburgh\, 548 Gilmerton Road\, Edinburgh\, EH17 7JD
CATEGORIES:General,South Scottish District
ATTACH;FMTTYPE=image/jpeg:https://faithmission.org/wp-content/uploads/2022/01/bible_event1.jpg
END:VEVENT
BEGIN:VEVENT
DTSTART;TZID=Europe/London:20240203T140000
DTEND;TZID=Europe/London:20240203T150000
DTSTAMP:20260420T223639
CREATED:20231031T104346Z
LAST-MODIFIED:20240120T180145Z
UID:9464-1706968800-1706972400@faithmission.org
SUMMARY:Edinburgh Bible Rallies
DESCRIPTION:The Faith Mission Centre\,\n548 Gilmerton Road\, Edinburgh \n2 March at 2.00pm\nJohn Matthews \nRefreshments are served afterwards\nEveryone is welcome \n  \n 
URL:https://faithmission.org/event/edinburgh-bible-rallies-4/
LOCATION:Faith Mission Centre\, Edinburgh\, 548 Gilmerton Road\, Edinburgh\, EH17 7JD
CATEGORIES:General,South Scottish District
ATTACH;FMTTYPE=image/jpeg:https://faithmission.org/wp-content/uploads/2022/01/bible_event1.jpg
END:VEVENT
BEGIN:VEVENT
DTSTART;TZID=Europe/London:20240208T193000
DTEND;TZID=Europe/London:20240208T203000
DTSTAMP:20260420T223639
CREATED:20240206T011235Z
LAST-MODIFIED:20240206T011235Z
UID:9779-1707420600-1707424200@faithmission.org
SUMMARY:Hope for Life - Lossiemouth
DESCRIPTION:Thursday 8 – Sunday 11 February\nevery night\n7.30pm at Marine Park\nFollow up meetings from the summer tent mission \nCoffee Morning on Saturday at 10.30am
URL:https://faithmission.org/event/hope-for-life-lossiemouth/2024-02-08/
CATEGORIES:General,Highland District
ATTACH;FMTTYPE=image/jpeg:https://faithmission.org/wp-content/uploads/2022/01/outreach_event1.jpg
END:VEVENT
BEGIN:VEVENT
DTSTART;TZID=Europe/London:20240210T100000
DTEND;TZID=Europe/London:20240210T150000
DTSTAMP:20260420T223639
CREATED:20240124T093355Z
LAST-MODIFIED:20240124T093355Z
UID:9745-1707559200-1707577200@faithmission.org
SUMMARY:Mission Vision Day
DESCRIPTION:Ministry & Mission Focus Day\nSaturday 10 February\, 10.00am-3.00pm\nAt The Faith Mission Centre\, Durrow\nMain Speaker: Craig Maiden\, Kinsale Baptist Church
URL:https://faithmission.org/event/mission-vision-day-2/
LOCATION:Durrow Centre\, Knocknagrally\, Durrow\, R32 HX23\, Ireland
CATEGORIES:Durrow Centre,General,Irish Midlands District
ATTACH;FMTTYPE=image/jpeg:https://faithmission.org/wp-content/uploads/2022/01/bible_event1.jpg
END:VEVENT
BEGIN:VEVENT
DTSTART;TZID=Europe/London:20240210T180000
DTEND;TZID=Europe/London:20240210T200000
DTSTAMP:20260420T223639
CREATED:20231221T030957Z
LAST-MODIFIED:20231221T031109Z
UID:9620-1707588000-1707595200@faithmission.org
SUMMARY:Fellowship Meal
DESCRIPTION:Saturday 10 February 2024 at 7.00pm\nIn Omagh Baptist Church Hall\nSinging: Paul & Sharon Acheson\nLocal FM Report: Heather Wilson\nEpilogue: Paul Acheson
URL:https://faithmission.org/event/fellowship-meal-2/
CATEGORIES:General,West Irish District
ATTACH;FMTTYPE=image/jpeg:https://faithmission.org/wp-content/uploads/Events/FM_Web_EventGraphic_Food.jpg
END:VEVENT
BEGIN:VEVENT
DTSTART;TZID=Europe/London:20240210T190000
DTEND;TZID=Europe/London:20240210T203000
DTSTAMP:20260420T223639
CREATED:20231220T234002Z
LAST-MODIFIED:20231220T234658Z
UID:9597-1707591600-1707597000@faithmission.org
SUMMARY:Rejuvenate Ballymena
DESCRIPTION:Saturday 10 February at 8pm \nSpeaker: Pastor Peter Craig
URL:https://faithmission.org/event/rejuvenate-ballymena-3/
LOCATION:Faith Mission Centre\, Ballymena\, 57 High Street\, Ballymena\, BT43 6DT
CATEGORIES:General,North Irish District
ATTACH;FMTTYPE=image/jpeg:https://faithmission.org/wp-content/uploads/2022/01/youth_event1.jpg
ORGANIZER;CN="Andrew%20McCullough":MAILTO:north.irish@faithmission.org
END:VEVENT
BEGIN:VEVENT
DTSTART;TZID=Europe/London:20240210T193000
DTEND;TZID=Europe/London:20240210T210000
DTSTAMP:20260420T223639
CREATED:20240120T015052Z
LAST-MODIFIED:20240120T015052Z
UID:9693-1707593400-1707598800@faithmission.org
SUMMARY:Glenavy Rally
DESCRIPTION:In St Aidan’s Church of Ireland Hall\nSaturday 10th February @ 7.30pm\nSoloist: Dean Davidson\nReport: Naomi Dudgeon\nSpeaker: Pastor William McCandless\nEnjoy good fellowship\, community singing\, ministry and hear up – to – date news of Faith Mission work\nAll warmly invited
URL:https://faithmission.org/event/glenavy-rally-2/
LOCATION:Glenavy Church of Ireland Hall\, Belfast Rd\, Glenavy\, Crumlin\, BT29 4LG\,
CATEGORIES:Central Irish District,General
ATTACH;FMTTYPE=image/jpeg:https://faithmission.org/wp-content/uploads/2022/01/bible_event1.jpg
END:VEVENT
BEGIN:VEVENT
DTSTART;TZID=Europe/London:20240214T200000
DTEND;TZID=Europe/London:20240214T210000
DTSTAMP:20260420T223639
CREATED:20240120T014632Z
LAST-MODIFIED:20240120T014632Z
UID:9691-1707940800-1707944400@faithmission.org
SUMMARY:Clonduff Rally
DESCRIPTION:In Clonduff Presbyterian Church\nWednesday 14th February @ 8.00pm\nSoloist: Garry Tutty \nReport: Simon Walsh \nSpeaker: Simon Walsh\nEnjoy good fellowship\, community singing\, ministry and\nhear up – to – date news of Faith Mission work
URL:https://faithmission.org/event/clonduff-rally-3/
LOCATION:Clonduff Presbyterian Church\, 51 Bannfield Road\, Rathfriland\, BT34 5HG
CATEGORIES:Central Irish District,General
ATTACH;FMTTYPE=image/jpeg:https://faithmission.org/wp-content/uploads/2022/01/bible_event1.jpg
END:VEVENT
BEGIN:VEVENT
DTSTART;TZID=Europe/London:20240217T190000
DTEND;TZID=Europe/London:20240217T200000
DTSTAMP:20260420T223639
CREATED:20231221T023554Z
LAST-MODIFIED:20231221T025238Z
UID:9613-1708196400-1708200000@faithmission.org
SUMMARY:Aughnacloy / Edentilone Rally
DESCRIPTION:This is your invitation to\nAughnacloy/Edintilone Rally\nIn Aughnacloy Presbyterian Church Hall\n(kindly granted)\nSaturday 17th February 2024 @ 8.00pm \nSpeaker: Garry Tutty\nSinger: Elaine Doran \nReport by: Heather Wilson\n\nCome and be encouraged by:\n– Faithful Bible ministry\n– Updates on FM work\n– Christian Fellowship\nYou will be most welcome
URL:https://faithmission.org/event/aughnacloy-edentilone-rally/
CATEGORIES:General,West Irish District
ATTACH;FMTTYPE=image/jpeg:https://faithmission.org/wp-content/uploads/2022/01/bible_event1.jpg
END:VEVENT
BEGIN:VEVENT
DTSTART;TZID=Europe/London:20240223T190000
DTEND;TZID=Europe/London:20240225T190000
DTSTAMP:20260420T223639
CREATED:20240103T210049Z
LAST-MODIFIED:20240103T210420Z
UID:9640-1708714800-1708887600@faithmission.org
SUMMARY:YouthMix Event (Durrow)
DESCRIPTION:8.00pm Friday 23 February – 3.00pm Sunday 25 February 2024 \nWe are inviting young people aged at least 14 years to our Youthmix Weekend at the Durrow Centre.  Andrew Burt from Enniscorthy will be sharing God’s Word at each session.  Those who are musically talented are invited to bring their instruments to help with the worship.\nWeather permitting\, out and about activities are planned\, as well as opportunities to chill with friends in our Upper Room and Lounge spaces. \nEarly booking is advised as bookings will close depending on available supervision and bed spaces. Bring your sleeping bag\, bedding and pillow. \nThe cost is €55 payable by Card or Paypal only. Book HERE \nFor More Information Contact:\nMervyn & Rachel Tomb\nKnocknagrally\, Durrow\, Co.Laois\, R32 HX23\nEmail: midlands.irish@faithmission.org\nTel: 05787 40770
URL:https://faithmission.org/event/youthmix-event-durrow/
LOCATION:Durrow Centre\, Knocknagrally\, Durrow\, R32 HX23\, Ireland
CATEGORIES:Children & Youth,Durrow Centre,Irish Midlands District
ATTACH;FMTTYPE=image/jpeg:https://faithmission.org/wp-content/uploads/2022/01/youth_event1.jpg
END:VEVENT
BEGIN:VEVENT
DTSTART;TZID=Europe/London:20240224T183000
DTEND;TZID=Europe/London:20240224T203000
DTSTAMP:20260420T223639
CREATED:20240117T102122Z
LAST-MODIFIED:20240117T102122Z
UID:9684-1708799400-1708806600@faithmission.org
SUMMARY:North West District Fellowship Meal
DESCRIPTION:Please complete the booking form and send it together with your payment of £20 per person (cheques made payable to The Faith Mission)\nWilliam & Carolyn Harrison\, Sheephill House\,\n74 Tully Road\, Limavady\, BT49 9HW. (07717005590) \nPLEASE BOOK BY SATURDAY 17 FEB !
URL:https://faithmission.org/event/north-west-district-fellowship-meal/
LOCATION:Faughanvale Presbyterian Church Hall\, Killylane Rd\, Eglinton\, Co.Londonderry\, BT47 3DW
CATEGORIES:General,North West Irish District
ATTACH;FMTTYPE=image/jpeg:https://faithmission.org/wp-content/uploads/Events/FM_Web_EventGraphic_Food.jpg
END:VEVENT
BEGIN:VEVENT
DTSTART;TZID=Europe/London:20240229T200000
DTEND;TZID=Europe/London:20240229T213000
DTSTAMP:20260420T223639
CREATED:20240122T233142Z
LAST-MODIFIED:20240122T233142Z
UID:9718-1709236800-1709242200@faithmission.org
SUMMARY:Nothing Runs Like A Deere
DESCRIPTION:Nothing runs like a Deere.  Family\, Fame & Faith.\nLooking at the life of John Deere from a farming\, historical\, engineering and Christian perspective.\nWith George Conn.\nAdmission Free\, All Welcome\, Refreshments Afterwards.
URL:https://faithmission.org/event/nothing-runs-like-a-deere/
LOCATION:Workspace Community Hub\, Draperstown\, Tobermore Rd\, Draperstown\, Magherafelt\, Co.Londonderry\, BT45 7AG
CATEGORIES:General,North Irish District
ATTACH;FMTTYPE=image/jpeg:https://faithmission.org/wp-content/uploads/2022/01/outreach_event1.jpg
ORGANIZER;CN="Andrew%20McCullough":MAILTO:north.irish@faithmission.org
END:VEVENT
BEGIN:VEVENT
DTSTART;TZID=Europe/London:20240301T183000
DTEND;TZID=Europe/London:20240301T193000
DTSTAMP:20260420T223639
CREATED:20231031T024419Z
LAST-MODIFIED:20231031T024419Z
UID:9454-1709317800-1709321400@faithmission.org
SUMMARY:Bible Rallies - Allander
DESCRIPTION:Allander Evangelical Church\nDouglas Street\, Milngarvie\, Glasgow \n1 March at 7.30pm\nSpeaker: John Matthews \nJoin us for ministry in Word and song\nTea & Coffee served afterwards.
URL:https://faithmission.org/event/bible-rallies-allander-5/
LOCATION:Allander Evangelical Church\, Claremount Gardens\, Milngavie\, G62 6PG
CATEGORIES:General,South Scottish District
ATTACH;FMTTYPE=image/jpeg:https://faithmission.org/wp-content/uploads/2022/01/bible_event1.jpg
END:VEVENT
END:VCALENDAR