BEGIN:VCALENDAR
VERSION:2.0
PRODID:-//Faith Mission - ECPv5.4.0.2//NONSGML v1.0//EN
CALSCALE:GREGORIAN
METHOD:PUBLISH
X-WR-CALNAME:Faith Mission
X-ORIGINAL-URL:https://faithmission.org
X-WR-CALDESC:Events for Faith Mission
BEGIN:VTIMEZONE
TZID:Europe/London
BEGIN:DAYLIGHT
TZOFFSETFROM:+0000
TZOFFSETTO:+0100
TZNAME:BST
DTSTART:20240331T010000
END:DAYLIGHT
BEGIN:STANDARD
TZOFFSETFROM:+0100
TZOFFSETTO:+0000
TZNAME:GMT
DTSTART:20241027T010000
END:STANDARD
END:VTIMEZONE
BEGIN:VEVENT
DTSTART;TZID=Europe/London:20240406T200000
DTEND;TZID=Europe/London:20240406T210000
DTSTAMP:20260420T212211
CREATED:20240328T131627Z
LAST-MODIFIED:20240328T131627Z
UID:9982-1712433600-1712437200@faithmission.org
SUMMARY:Donaghey Rally
DESCRIPTION:This is your invitation to\nDONAGHEY RALLY\nin Donaghey Congregational Church\nSaturday 6th April 2024 @ 8.00pm\nSpeaker: Rev. Graeme Orr\nSingers: New Life Quartet\nCome and be encouraged by:\n– Faithful Bible ministry\n– Updates on FM work\n– Christian Fellowship\nYou will be most welcome!\nNot by might\, nor by power\, but by my spirit\, saith the LORD of hosts. Zech. 4:6
URL:https://faithmission.org/event/donaghey-rally-2/
LOCATION:Donaghey Congregational Church\, 30 Killygarvan Rd\,\, Dungannon\,\, BT71 4DA
CATEGORIES:General,West Irish District
ATTACH;FMTTYPE=image/jpeg:https://faithmission.org/wp-content/uploads/2022/01/bible_event1.jpg
END:VEVENT
BEGIN:VEVENT
DTSTART;TZID=Europe/London:20240414T190000
DTEND;TZID=Europe/London:20240414T200000
DTSTAMP:20260420T212211
CREATED:20240319T195606Z
LAST-MODIFIED:20240319T195606Z
UID:9946-1713121200-1713124800@faithmission.org
SUMMARY:Gospel Hymn Sing Evening
DESCRIPTION:Held at The Faith Mission Centre\,\nSunday 14 April at 7.00pm
URL:https://faithmission.org/event/gospel-hymn-sing-evening/
LOCATION:Carhue Centre\, Carhoon East\, Co. Cork\, 51.743037\, -8.814739
CATEGORIES:General,South West Irish District
ATTACH;FMTTYPE=image/jpeg:https://faithmission.org/wp-content/uploads/2022/01/outreach_event1.jpg
END:VEVENT
BEGIN:VEVENT
DTSTART;TZID=Europe/London:20240420T200000
DTEND;TZID=Europe/London:20240420T210000
DTSTAMP:20260420T212211
CREATED:20240418T011019Z
LAST-MODIFIED:20240418T011019Z
UID:10079-1713643200-1713646800@faithmission.org
SUMMARY:The Barn
DESCRIPTION:The Barn – Lifeboat Fellowship\nAll young adults welcome\nSaturday 20 April at 8pm\nSpecial evening with Brian Gault
URL:https://faithmission.org/event/the-barn-2/
LOCATION:Lifeboat Fellowship\, 89 Old Moy Road\, Dungannon\, BT71 6PX
CATEGORIES:General,West Irish District
ATTACH;FMTTYPE=image/jpeg:https://faithmission.org/wp-content/uploads/2022/01/youth_event1.jpg
END:VEVENT
BEGIN:VEVENT
DTSTART;TZID=Europe/London:20240421T183000
DTEND;TZID=Europe/London:20240421T193000
DTSTAMP:20260420T212211
CREATED:20240421T060953Z
LAST-MODIFIED:20240421T061023Z
UID:10094-1713724200-1713727800@faithmission.org
SUMMARY:Maghermason Gospel Mission
DESCRIPTION:
URL:https://faithmission.org/event/maghermason-gospel-mission/2024-04-21/
CATEGORIES:General,Gospel Truck,North West Irish District
ATTACH;FMTTYPE=image/jpeg:https://faithmission.org/wp-content/uploads/2022/01/gospel_event-1.jpg
END:VEVENT
BEGIN:VEVENT
DTSTART;TZID=Europe/London:20240422T100000
DTEND;TZID=Europe/London:20240422T113000
DTSTAMP:20260420T212211
CREATED:20231002T201050Z
LAST-MODIFIED:20231002T220051Z
UID:9272-1713780000-1713785400@faithmission.org
SUMMARY:Ladies Bible Studies
DESCRIPTION:
URL:https://faithmission.org/event/ladies-bible-studies/2024-04-22/
LOCATION:Knocknagrally\, Knocknagrally\, Durrow\, Co.Laois\, R32 HX23
CATEGORIES:General,Irish Midlands District
ATTACH;FMTTYPE=image/jpeg:https://faithmission.org/wp-content/uploads/Events/FM_Web_EventGraphic_Ladies.jpg
ORGANIZER;CN="Rachel%20Tomb":MAILTO:midlands.irish@faithmission.org
END:VEVENT
BEGIN:VEVENT
DTSTART;TZID=Europe/London:20240422T200000
DTEND;TZID=Europe/London:20240422T210000
DTSTAMP:20260420T212211
CREATED:20240421T060953Z
LAST-MODIFIED:20240421T061024Z
UID:10097-1713816000-1713819600@faithmission.org
SUMMARY:Maghermason Gospel Mission
DESCRIPTION:
URL:https://faithmission.org/event/maghermason-gospel-mission/2024-04-22/
CATEGORIES:General,Gospel Truck,North West Irish District
ATTACH;FMTTYPE=image/jpeg:https://faithmission.org/wp-content/uploads/2022/01/gospel_event-1.jpg
END:VEVENT
BEGIN:VEVENT
DTSTART;TZID=Europe/London:20240423T200000
DTEND;TZID=Europe/London:20240423T210000
DTSTAMP:20260420T212211
CREATED:20240421T060953Z
LAST-MODIFIED:20240421T061024Z
UID:10098-1713902400-1713906000@faithmission.org
SUMMARY:Maghermason Gospel Mission
DESCRIPTION:
URL:https://faithmission.org/event/maghermason-gospel-mission/2024-04-23/
CATEGORIES:General,Gospel Truck,North West Irish District
ATTACH;FMTTYPE=image/jpeg:https://faithmission.org/wp-content/uploads/2022/01/gospel_event-1.jpg
END:VEVENT
BEGIN:VEVENT
DTSTART;TZID=Europe/London:20240424T200000
DTEND;TZID=Europe/London:20240424T210000
DTSTAMP:20260420T212211
CREATED:20240421T060953Z
LAST-MODIFIED:20240421T061024Z
UID:10099-1713988800-1713992400@faithmission.org
SUMMARY:Maghermason Gospel Mission
DESCRIPTION:
URL:https://faithmission.org/event/maghermason-gospel-mission/2024-04-24/
CATEGORIES:General,Gospel Truck,North West Irish District
ATTACH;FMTTYPE=image/jpeg:https://faithmission.org/wp-content/uploads/2022/01/gospel_event-1.jpg
END:VEVENT
BEGIN:VEVENT
DTSTART;TZID=Europe/London:20240425T200000
DTEND;TZID=Europe/London:20240425T210000
DTSTAMP:20260420T212211
CREATED:20240421T060953Z
LAST-MODIFIED:20240421T061024Z
UID:10100-1714075200-1714078800@faithmission.org
SUMMARY:Maghermason Gospel Mission
DESCRIPTION:
URL:https://faithmission.org/event/maghermason-gospel-mission/2024-04-25/
CATEGORIES:General,Gospel Truck,North West Irish District
ATTACH;FMTTYPE=image/jpeg:https://faithmission.org/wp-content/uploads/2022/01/gospel_event-1.jpg
END:VEVENT
BEGIN:VEVENT
DTSTART;VALUE=DATE:20240426
DTEND;VALUE=DATE:20240429
DTSTAMP:20260420T212211
CREATED:20240328T132649Z
LAST-MODIFIED:20240328T132649Z
UID:9984-1714089600-1714348799@faithmission.org
SUMMARY:Hope For The Future
DESCRIPTION:Corick House Hotel\, BT76 0BZ \nFriday 26 April\, 10.30am Coffee Morning\nCarolyn Harrison\, “Handmade” – on purpose for a purpose\nMust be prebooked by Saturday 20 April \nSaturday 27 April\, 9.00am Men’s Breakfast (£10.50)\nWilliam Harrison\nMust be prebooked & prepaid by Saturday 20 April \nSunday 28 April\, 8.00pm\nWilliam Harrison \nBookings should be made to Anne Brown\, Tel 028 8224 2286
URL:https://faithmission.org/event/hope-for-the-future-2/
LOCATION:Corick House Hotel\, 20 Corick Road\, Clogher\,\, BT76 0BZ\, United Kingdom
CATEGORIES:General,West Irish District
ATTACH;FMTTYPE=image/jpeg:https://faithmission.org/wp-content/uploads/2022/01/bible_event1.jpg
END:VEVENT
BEGIN:VEVENT
DTSTART;TZID=Europe/London:20240426T200000
DTEND;TZID=Europe/London:20240426T210000
DTSTAMP:20260420T212211
CREATED:20240421T060953Z
LAST-MODIFIED:20240421T061024Z
UID:10101-1714161600-1714165200@faithmission.org
SUMMARY:Maghermason Gospel Mission
DESCRIPTION:
URL:https://faithmission.org/event/maghermason-gospel-mission/2024-04-26/
CATEGORIES:General,Gospel Truck,North West Irish District
ATTACH;FMTTYPE=image/jpeg:https://faithmission.org/wp-content/uploads/2022/01/gospel_event-1.jpg
END:VEVENT
BEGIN:VEVENT
DTSTART;TZID=Europe/London:20240427T163000
DTEND;TZID=Europe/London:20240427T210000
DTSTAMP:20260420T212211
CREATED:20240321T002458Z
LAST-MODIFIED:20240321T002459Z
UID:9950-1714235400-1714251600@faithmission.org
SUMMARY:FMBC Satellite Course Durrow
DESCRIPTION:When you pray say “Father”\nThe Dynamics & Delight of Prayer\n27 April 2024 at the Durrow Centre\nSpeaker: Angus Moyes
URL:https://faithmission.org/event/fmbc-satellite-course-durrow/
LOCATION:Durrow Centre\, Knocknagrally\, Durrow\, R32 HX23\, Ireland
CATEGORIES:Durrow Centre,General,Irish Midlands District
ATTACH;FMTTYPE=image/jpeg:https://faithmission.org/wp-content/uploads/2022/01/bible_event1.jpg
END:VEVENT
BEGIN:VEVENT
DTSTART;TZID=Europe/London:20240427T163000
DTEND;TZID=Europe/London:20240427T163000
DTSTAMP:20260420T212211
CREATED:20240407T165010Z
LAST-MODIFIED:20240407T165041Z
UID:10019-1714235400-1714235400@faithmission.org
SUMMARY:Course on Prayer at Durrow
DESCRIPTION:
URL:https://faithmission.org/event/course-on-prayer-at-durrow/
LOCATION:Durrow Centre\, Knocknagrally\, Durrow\, R32 HX23\, Ireland
CATEGORIES:Durrow Centre,General,Irish Midlands District
ATTACH;FMTTYPE=image/jpeg:https://faithmission.org/wp-content/uploads/2022/01/prayer_event1.jpg
END:VEVENT
BEGIN:VEVENT
DTSTART;TZID=Europe/London:20240427T200000
DTEND;TZID=Europe/London:20240427T210000
DTSTAMP:20260420T212211
CREATED:20240315T203659Z
LAST-MODIFIED:20240315T203712Z
UID:9928-1714248000-1714251600@faithmission.org
SUMMARY:Focus on The Faith Mission Evening
DESCRIPTION:Derrycarne Mission Hall\nSaturday 27 April 2024 at 8.00pm\nSpeaker: Rev. Billy Park\nReports from:  Simon Walsh\, Brian Parker\nEveryone Welcome
URL:https://faithmission.org/event/focus-on-the-faith-mission-evening/
LOCATION:Derrycarne Mission Hall\, Derrycarne Rd\, Portadown\,\, Craigavon\, BT62 1PT
CATEGORIES:General,Irish Border District
ATTACH;FMTTYPE=image/jpeg:https://faithmission.org/wp-content/uploads/2022/01/bible_event1.jpg
ORGANIZER;CN="Simon%20Walsh":MAILTO:simon.walsh@faithmission.org
END:VEVENT
BEGIN:VEVENT
DTSTART;TZID=Europe/London:20240428T183000
DTEND;TZID=Europe/London:20240428T193000
DTSTAMP:20260420T212211
CREATED:20240421T060953Z
LAST-MODIFIED:20240421T061024Z
UID:10102-1714329000-1714332600@faithmission.org
SUMMARY:Maghermason Gospel Mission
DESCRIPTION:
URL:https://faithmission.org/event/maghermason-gospel-mission/2024-04-28/
CATEGORIES:General,Gospel Truck,North West Irish District
ATTACH;FMTTYPE=image/jpeg:https://faithmission.org/wp-content/uploads/2022/01/gospel_event-1.jpg
END:VEVENT
BEGIN:VEVENT
DTSTART;TZID=Europe/London:20240501T103000
DTEND;TZID=Europe/London:20240501T120000
DTSTAMP:20260420T212211
CREATED:20231009T193717Z
LAST-MODIFIED:20231009T193717Z
UID:9364-1714559400-1714564800@faithmission.org
SUMMARY:Ladies Coffee Morning
DESCRIPTION:Meeting the first Wednesday of each month at 10.30am\nFor friendship\, Fellowship and Spiritual Food\nBible Studies base from the book of Hebrews – Consider Jesus \n4 October\, 1 November\, 6 December\, 3 January\, 7 February\, 6 March\, 19 April\, 1 May\, 5 June. \nIf you require any further information\, contact Anne Brown 07731634169
URL:https://faithmission.org/event/ladies-coffee-morning-2/2024-05-01/
LOCATION:Portadown FM Centre\, Mahon Road\,\, Portadown\, BT62 3SF
CATEGORIES:General,Irish Border District
ATTACH;FMTTYPE=image/jpeg:https://faithmission.org/wp-content/uploads/2022/01/bible_event1.jpg
END:VEVENT
BEGIN:VEVENT
DTSTART;TZID=Europe/London:20240502T113000
DTEND;TZID=Europe/London:20240502T130000
DTSTAMP:20260420T212211
CREATED:20231003T194033Z
LAST-MODIFIED:20240120T175552Z
UID:9297-1714649400-1714654800@faithmission.org
SUMMARY:Ladies' C.A.M.E.O
DESCRIPTION:Hebrews CONSIDER JESUS \nThursdays at 10.30am in Drumquin Presbyterian Church Hall (Kindly Granted) \n5 Oct\, 2 Nov\, 7 Dec\, 4 Jan\, 1 Feb\, 7 Mar\, 11 Apr\, 2 May. \nContact Anne Brown: 07731634169 \nWe warmly invite you to meet with your friends as we look into God’s Word.
URL:https://faithmission.org/event/ladies-c-a-m-e-o/2024-05-02/
LOCATION:Drumquin Presbyterian Church\, 2 Castlederg Rd\, Drumquin\,\, Omagh\, BT78 4PH
CATEGORIES:General,West Irish District
ATTACH;FMTTYPE=image/jpeg:https://faithmission.org/wp-content/uploads/Events/FM_Web_EventGraphic_Ladies.jpg
END:VEVENT
BEGIN:VEVENT
DTSTART;TZID=Europe/London:20240502T200000
DTEND;TZID=Europe/London:20240502T210000
DTSTAMP:20260420T212211
CREATED:20240318T124859Z
LAST-MODIFIED:20240318T124859Z
UID:9936-1714680000-1714683600@faithmission.org
SUMMARY:Dervock Rally
DESCRIPTION:Thursday 2 May at 8pm\nIn Dervock Mission Hall\nSpeaker: Rev Raymond McLarnin\nSinger: Mr Mark Watt \nSupper Served Afterwards
URL:https://faithmission.org/event/dervock-rally/
LOCATION:Dervock Mission Hall\, BT53 8BX
CATEGORIES:General,North Irish District
ATTACH;FMTTYPE=image/jpeg:https://faithmission.org/wp-content/uploads/2022/01/bible_event1.jpg
ORGANIZER;CN="Andrew%20McCullough":MAILTO:north.irish@faithmission.org
END:VEVENT
BEGIN:VEVENT
DTSTART;TZID=Europe/London:20240503T193000
DTEND;TZID=Europe/London:20240503T203000
DTSTAMP:20260420T212211
CREATED:20231031T024522Z
LAST-MODIFIED:20231031T024522Z
UID:9456-1714764600-1714768200@faithmission.org
SUMMARY:Bible Rallies - Allander
DESCRIPTION:Allander Evangelical Church\nDouglas Street\, Milngarvie\, Glasgow \n3 May at 7.30pm\nSpeaker: Ian Maclean \nJoin us for ministry in Word and song\nTea & Coffee served afterwards.
URL:https://faithmission.org/event/bible-rallies-allander-6/
LOCATION:Allander Evangelical Church\, Claremount Gardens\, Milngavie\, G62 6PG
CATEGORIES:General,South Scottish District
ATTACH;FMTTYPE=image/jpeg:https://faithmission.org/wp-content/uploads/2022/01/bible_event1.jpg
END:VEVENT
BEGIN:VEVENT
DTSTART;TZID=Europe/London:20240503T200000
DTEND;TZID=Europe/London:20240503T210000
DTSTAMP:20260420T212211
CREATED:20240315T203943Z
LAST-MODIFIED:20240315T204650Z
UID:9930-1714766400-1714770000@faithmission.org
SUMMARY:Focus on The Faith Mission Evening
DESCRIPTION:Camagh Mission Hall\nFriday 3 May at 8.00pm\nAndrew Maybin will share about the work of \nThe Gospel Truck\, and will also bring a message from God’s Word\nCarolyn Maybin will share in song\nEveryone Welcome
URL:https://faithmission.org/event/focus-on-the-faith-mission-evening-2/
LOCATION:Camagh Mission Hall\, 33 Derryhennett Road\, Keady\, BT60 3LF
CATEGORIES:General,Irish Border District
ATTACH;FMTTYPE=image/jpeg:https://faithmission.org/wp-content/uploads/2022/01/bible_event1.jpg
ORGANIZER;CN="Simon%20Walsh":MAILTO:simon.walsh@faithmission.org
END:VEVENT
BEGIN:VEVENT
DTSTART;TZID=Europe/London:20240503T200000
DTEND;TZID=Europe/London:20240503T210000
DTSTAMP:20260420T212211
CREATED:20240318T132024Z
LAST-MODIFIED:20240318T132024Z
UID:9938-1714766400-1714770000@faithmission.org
SUMMARY:Ballygelly Rally
DESCRIPTION:Friday 3 May at 8.00pm\nIn Buckna Presbyterian Church Hall\nSpeaker: Rev Henry Montgomery\nSinger: Mr Dean Davidson \nSupper Served Afterwards
URL:https://faithmission.org/event/ballygelly-rally/
LOCATION:Buckna Presbyterian Church Hall\, 54.899598\, -6.116102\, BT42 4LS
CATEGORIES:General,North Irish District
ATTACH;FMTTYPE=image/jpeg:https://faithmission.org/wp-content/uploads/2022/01/bible_event1.jpg
ORGANIZER;CN="Andrew%20McCullough":MAILTO:north.irish@faithmission.org
END:VEVENT
END:VCALENDAR