BEGIN:VCALENDAR
VERSION:2.0
PRODID:-//Faith Mission - ECPv5.4.0.2//NONSGML v1.0//EN
CALSCALE:GREGORIAN
METHOD:PUBLISH
X-WR-CALNAME:Faith Mission
X-ORIGINAL-URL:https://faithmission.org
X-WR-CALDESC:Events for Faith Mission
BEGIN:VTIMEZONE
TZID:Europe/London
BEGIN:DAYLIGHT
TZOFFSETFROM:+0000
TZOFFSETTO:+0100
TZNAME:BST
DTSTART:20240331T010000
END:DAYLIGHT
BEGIN:STANDARD
TZOFFSETFROM:+0100
TZOFFSETTO:+0000
TZNAME:GMT
DTSTART:20241027T010000
END:STANDARD
END:VTIMEZONE
BEGIN:VEVENT
DTSTART;TZID=Europe/London:20240428T183000
DTEND;TZID=Europe/London:20240428T193000
DTSTAMP:20260420T185103
CREATED:20240421T060953Z
LAST-MODIFIED:20240421T061024Z
UID:10102-1714329000-1714332600@faithmission.org
SUMMARY:Maghermason Gospel Mission
DESCRIPTION:
URL:https://faithmission.org/event/maghermason-gospel-mission/2024-04-28/
CATEGORIES:General,Gospel Truck,North West Irish District
ATTACH;FMTTYPE=image/jpeg:https://faithmission.org/wp-content/uploads/2022/01/gospel_event-1.jpg
END:VEVENT
BEGIN:VEVENT
DTSTART;TZID=Europe/London:20240501T103000
DTEND;TZID=Europe/London:20240501T120000
DTSTAMP:20260420T185103
CREATED:20231009T193717Z
LAST-MODIFIED:20231009T193717Z
UID:9364-1714559400-1714564800@faithmission.org
SUMMARY:Ladies Coffee Morning
DESCRIPTION:Meeting the first Wednesday of each month at 10.30am\nFor friendship\, Fellowship and Spiritual Food\nBible Studies base from the book of Hebrews – Consider Jesus \n4 October\, 1 November\, 6 December\, 3 January\, 7 February\, 6 March\, 19 April\, 1 May\, 5 June. \nIf you require any further information\, contact Anne Brown 07731634169
URL:https://faithmission.org/event/ladies-coffee-morning-2/2024-05-01/
LOCATION:Portadown FM Centre\, Mahon Road\,\, Portadown\, BT62 3SF
CATEGORIES:General,Irish Border District
ATTACH;FMTTYPE=image/jpeg:https://faithmission.org/wp-content/uploads/2022/01/bible_event1.jpg
END:VEVENT
BEGIN:VEVENT
DTSTART;TZID=Europe/London:20240502T113000
DTEND;TZID=Europe/London:20240502T130000
DTSTAMP:20260420T185103
CREATED:20231003T194033Z
LAST-MODIFIED:20240120T175552Z
UID:9297-1714649400-1714654800@faithmission.org
SUMMARY:Ladies' C.A.M.E.O
DESCRIPTION:Hebrews CONSIDER JESUS \nThursdays at 10.30am in Drumquin Presbyterian Church Hall (Kindly Granted) \n5 Oct\, 2 Nov\, 7 Dec\, 4 Jan\, 1 Feb\, 7 Mar\, 11 Apr\, 2 May. \nContact Anne Brown: 07731634169 \nWe warmly invite you to meet with your friends as we look into God’s Word.
URL:https://faithmission.org/event/ladies-c-a-m-e-o/2024-05-02/
LOCATION:Drumquin Presbyterian Church\, 2 Castlederg Rd\, Drumquin\,\, Omagh\, BT78 4PH
CATEGORIES:General,West Irish District
ATTACH;FMTTYPE=image/jpeg:https://faithmission.org/wp-content/uploads/Events/FM_Web_EventGraphic_Ladies.jpg
END:VEVENT
BEGIN:VEVENT
DTSTART;TZID=Europe/London:20240502T200000
DTEND;TZID=Europe/London:20240502T210000
DTSTAMP:20260420T185103
CREATED:20240318T124859Z
LAST-MODIFIED:20240318T124859Z
UID:9936-1714680000-1714683600@faithmission.org
SUMMARY:Dervock Rally
DESCRIPTION:Thursday 2 May at 8pm\nIn Dervock Mission Hall\nSpeaker: Rev Raymond McLarnin\nSinger: Mr Mark Watt \nSupper Served Afterwards
URL:https://faithmission.org/event/dervock-rally/
LOCATION:Dervock Mission Hall\, BT53 8BX
CATEGORIES:General,North Irish District
ATTACH;FMTTYPE=image/jpeg:https://faithmission.org/wp-content/uploads/2022/01/bible_event1.jpg
ORGANIZER;CN="Andrew%20McCullough":MAILTO:north.irish@faithmission.org
END:VEVENT
BEGIN:VEVENT
DTSTART;TZID=Europe/London:20240503T193000
DTEND;TZID=Europe/London:20240503T203000
DTSTAMP:20260420T185103
CREATED:20231031T024522Z
LAST-MODIFIED:20231031T024522Z
UID:9456-1714764600-1714768200@faithmission.org
SUMMARY:Bible Rallies - Allander
DESCRIPTION:Allander Evangelical Church\nDouglas Street\, Milngarvie\, Glasgow \n3 May at 7.30pm\nSpeaker: Ian Maclean \nJoin us for ministry in Word and song\nTea & Coffee served afterwards.
URL:https://faithmission.org/event/bible-rallies-allander-6/
LOCATION:Allander Evangelical Church\, Claremount Gardens\, Milngavie\, G62 6PG
CATEGORIES:General,South Scottish District
ATTACH;FMTTYPE=image/jpeg:https://faithmission.org/wp-content/uploads/2022/01/bible_event1.jpg
END:VEVENT
BEGIN:VEVENT
DTSTART;TZID=Europe/London:20240503T200000
DTEND;TZID=Europe/London:20240503T210000
DTSTAMP:20260420T185103
CREATED:20240315T203943Z
LAST-MODIFIED:20240315T204650Z
UID:9930-1714766400-1714770000@faithmission.org
SUMMARY:Focus on The Faith Mission Evening
DESCRIPTION:Camagh Mission Hall\nFriday 3 May at 8.00pm\nAndrew Maybin will share about the work of \nThe Gospel Truck\, and will also bring a message from God’s Word\nCarolyn Maybin will share in song\nEveryone Welcome
URL:https://faithmission.org/event/focus-on-the-faith-mission-evening-2/
LOCATION:Camagh Mission Hall\, 33 Derryhennett Road\, Keady\, BT60 3LF
CATEGORIES:General,Irish Border District
ATTACH;FMTTYPE=image/jpeg:https://faithmission.org/wp-content/uploads/2022/01/bible_event1.jpg
ORGANIZER;CN="Simon%20Walsh":MAILTO:simon.walsh@faithmission.org
END:VEVENT
BEGIN:VEVENT
DTSTART;TZID=Europe/London:20240503T200000
DTEND;TZID=Europe/London:20240503T210000
DTSTAMP:20260420T185103
CREATED:20240318T132024Z
LAST-MODIFIED:20240318T132024Z
UID:9938-1714766400-1714770000@faithmission.org
SUMMARY:Ballygelly Rally
DESCRIPTION:Friday 3 May at 8.00pm\nIn Buckna Presbyterian Church Hall\nSpeaker: Rev Henry Montgomery\nSinger: Mr Dean Davidson \nSupper Served Afterwards
URL:https://faithmission.org/event/ballygelly-rally/
LOCATION:Buckna Presbyterian Church Hall\, 54.899598\, -6.116102\, BT42 4LS
CATEGORIES:General,North Irish District
ATTACH;FMTTYPE=image/jpeg:https://faithmission.org/wp-content/uploads/2022/01/bible_event1.jpg
ORGANIZER;CN="Andrew%20McCullough":MAILTO:north.irish@faithmission.org
END:VEVENT
BEGIN:VEVENT
DTSTART;TZID=Europe/London:20240504T093000
DTEND;TZID=Europe/London:20240504T110000
DTSTAMP:20260420T185103
CREATED:20240318T133454Z
LAST-MODIFIED:20240318T134119Z
UID:9943-1714815000-1714820400@faithmission.org
SUMMARY:Ladies' Breakfast
DESCRIPTION:Saturday 4 May at 9.30am\nIn Laymore Faith Mission Hall\nSpeaker: Mrs Barbara Boyd \nMust be pre-booked as spaces are limited.\nTo book please phone Jenny on 25656494
URL:https://faithmission.org/event/ladies-breakfast/
LOCATION:Laymore Faith Mission Hall
CATEGORIES:General,North Irish District
ATTACH;FMTTYPE=image/jpeg:https://faithmission.org/wp-content/uploads/Events/FM_Web_EventGraphic_Ladies.jpg
ORGANIZER;CN="Andrew%20McCullough":MAILTO:north.irish@faithmission.org
END:VEVENT
BEGIN:VEVENT
DTSTART;TZID=Europe/London:20240504T140000
DTEND;TZID=Europe/London:20240504T150000
DTSTAMP:20260420T185103
CREATED:20231031T104429Z
LAST-MODIFIED:20231031T104429Z
UID:9466-1714831200-1714834800@faithmission.org
SUMMARY:Edinburgh Bible Rallies
DESCRIPTION:The Faith Mission Centre\,\n548 Gilmerton Road\, Edinburgh \n4 May at 2.00pm\nIan Maclean \nRefreshments are served afterwards\nEveryone is welcome \n  \n 
URL:https://faithmission.org/event/edinburgh-bible-rallies-5/
LOCATION:Faith Mission Centre\, Edinburgh\, 548 Gilmerton Road\, Edinburgh\, EH17 7JD
CATEGORIES:General,South Scottish District
ATTACH;FMTTYPE=image/jpeg:https://faithmission.org/wp-content/uploads/2022/01/bible_event1.jpg
END:VEVENT
BEGIN:VEVENT
DTSTART;TZID=Europe/London:20240504T200000
DTEND;TZID=Europe/London:20240504T210000
DTSTAMP:20260420T185103
CREATED:20240318T133026Z
LAST-MODIFIED:20240318T133026Z
UID:9940-1714852800-1714856400@faithmission.org
SUMMARY:Ballee Rally
DESCRIPTION:Saturday 4 May at 8.00pm\nIn Ballee Mission Hall\nSpeaker: Mr John Weir\nSinger: Miss Naomi Dickey \nSupper Served Afterwards
URL:https://faithmission.org/event/ballee-rally/
LOCATION:Ballee Mission Hall\, Old Antrim Road\,\, Ballymena\, BT42 2HG
CATEGORIES:General,North Irish District
ATTACH;FMTTYPE=image/jpeg:https://faithmission.org/wp-content/uploads/2022/01/bible_event1.jpg
ORGANIZER;CN="Andrew%20McCullough":MAILTO:north.irish@faithmission.org
END:VEVENT
BEGIN:VEVENT
DTSTART;TZID=Europe/London:20240505T200000
DTEND;TZID=Europe/London:20240505T210000
DTSTAMP:20260420T185103
CREATED:20240329T102631Z
LAST-MODIFIED:20240329T102642Z
UID:9993-1714939200-1714942800@faithmission.org
SUMMARY:North West Bible Rallies
DESCRIPTION:  \n \nIn Lismacarol Mission Hall\nSunday 5 – Tuesday 7 May at 8.00pm\nSpeakers: William Harrison & Gordon Thomson
URL:https://faithmission.org/event/north-west-bible-rallies/2024-05-05/
LOCATION:Lismacarrol Mission Hall\, 54.973543 -7.257518
CATEGORIES:General,North West Irish District
ATTACH;FMTTYPE=image/jpeg:https://faithmission.org/wp-content/uploads/2022/01/bible_event1.jpg
END:VEVENT
BEGIN:VEVENT
DTSTART;TZID=Europe/London:20240506T200000
DTEND;TZID=Europe/London:20240506T210000
DTSTAMP:20260420T185103
CREATED:20240329T102631Z
LAST-MODIFIED:20240329T102642Z
UID:9996-1715025600-1715029200@faithmission.org
SUMMARY:North West Bible Rallies
DESCRIPTION:  \n \nIn Lismacarol Mission Hall\nSunday 5 – Tuesday 7 May at 8.00pm\nSpeakers: William Harrison & Gordon Thomson
URL:https://faithmission.org/event/north-west-bible-rallies/2024-05-06/
LOCATION:Lismacarrol Mission Hall\, 54.973543 -7.257518
CATEGORIES:General,North West Irish District
ATTACH;FMTTYPE=image/jpeg:https://faithmission.org/wp-content/uploads/2022/01/bible_event1.jpg
END:VEVENT
BEGIN:VEVENT
DTSTART;TZID=Europe/London:20240507T200000
DTEND;TZID=Europe/London:20240507T210000
DTSTAMP:20260420T185103
CREATED:20240329T102631Z
LAST-MODIFIED:20240329T102642Z
UID:9997-1715112000-1715115600@faithmission.org
SUMMARY:North West Bible Rallies
DESCRIPTION:  \n \nIn Lismacarol Mission Hall\nSunday 5 – Tuesday 7 May at 8.00pm\nSpeakers: William Harrison & Gordon Thomson
URL:https://faithmission.org/event/north-west-bible-rallies/2024-05-07/
LOCATION:Lismacarrol Mission Hall\, 54.973543 -7.257518
CATEGORIES:General,North West Irish District
ATTACH;FMTTYPE=image/jpeg:https://faithmission.org/wp-content/uploads/2022/01/bible_event1.jpg
END:VEVENT
BEGIN:VEVENT
DTSTART;VALUE=DATE:20240510
DTEND;VALUE=DATE:20240513
DTSTAMP:20260420T185103
CREATED:20240313T235511Z
LAST-MODIFIED:20240314T000836Z
UID:9921-1715299200-1715558399@faithmission.org
SUMMARY:Solid Ground Men's Weekend\, Durrow
DESCRIPTION:Solid Ground Men’s Weekend 2024\n\n\n\n\n\n\nFriday 10-Sunday 12 May 2024\n\n\n\n\n\n\nWhy not join us for our “Solid Ground” Men’s Weekend this spring?  The programme will include a mix of activities\, prayer times\, Bible ministry and worship.\nWe plan to go Clay Pigeon Shooting on Saturday\, just to see if the men are as good at hitting a target as they say!\nA Barbecue is planned. with ample space around the centre to sit and enjoy each other’s company. \nThe speaker is Paul Ritchie\, from Limerick.  Cost for the weekend is €90 and early booking is advised. \nMORE INFORMATION AND BOOKING
URL:https://faithmission.org/event/solid-ground-mens-weekend-durrow-2/
LOCATION:Durrow Centre\, Knocknagrally\, Durrow\, R32 HX23\, Ireland
CATEGORIES:Durrow Centre,General,Irish Midlands District
ATTACH;FMTTYPE=image/jpeg:https://faithmission.org/wp-content/uploads/Events/FM_Web_EventGraphic_Mens.jpg
END:VEVENT
BEGIN:VEVENT
DTSTART;VALUE=DATE:20240512
DTEND;VALUE=DATE:20240527
DTSTAMP:20260420T185103
CREATED:20240412T224719Z
LAST-MODIFIED:20240412T224719Z
UID:10035-1715472000-1716767999@faithmission.org
SUMMARY:Hope For Life - Garryduff Mission
DESCRIPTION:Sunday 12 – 26 May 2024\nIn Garryduff Primary School
URL:https://faithmission.org/event/hope-for-life-garryduff-mission/
LOCATION:Garryduff Primary School\, Garryduff Road\, Ballymoney\, BT53 7DR
CATEGORIES:General,North Irish District
ATTACH;FMTTYPE=image/jpeg:https://faithmission.org/wp-content/uploads/2022/01/gospel_event-1.jpg
ORGANIZER;CN="Andrew%20McCullough":MAILTO:north.irish@faithmission.org
END:VEVENT
BEGIN:VEVENT
DTSTART;TZID=Europe/London:20240513T100000
DTEND;TZID=Europe/London:20240513T113000
DTSTAMP:20260420T185103
CREATED:20231002T201050Z
LAST-MODIFIED:20231002T220051Z
UID:9273-1715594400-1715599800@faithmission.org
SUMMARY:Ladies Bible Studies
DESCRIPTION:
URL:https://faithmission.org/event/ladies-bible-studies/2024-05-13/
LOCATION:Knocknagrally\, Knocknagrally\, Durrow\, Co.Laois\, R32 HX23
CATEGORIES:General,Irish Midlands District
ATTACH;FMTTYPE=image/jpeg:https://faithmission.org/wp-content/uploads/Events/FM_Web_EventGraphic_Ladies.jpg
ORGANIZER;CN="Rachel%20Tomb":MAILTO:midlands.irish@faithmission.org
END:VEVENT
BEGIN:VEVENT
DTSTART;TZID=Europe/London:20240515T193000
DTEND;TZID=Europe/London:20240515T203000
DTSTAMP:20260420T185103
CREATED:20240415T225214Z
LAST-MODIFIED:20240415T231929Z
UID:10043-1715801400-1715805000@faithmission.org
SUMMARY:May Rallies - Irish Midlands
DESCRIPTION:Wednesday 15 May at 7.30pm – Speaker: Reuben Lyons\nSunday 19 May at 7.00pm – Speaker: Mervyn Tomb\nWednesday 22 May at 7.30pm – Speaker: Daniel Brown
URL:https://faithmission.org/event/may-rallies-irish-midlands/2024-05-15/
CATEGORIES:General,Irish Border District,Irish Midlands District
ATTACH;FMTTYPE=image/jpeg:https://faithmission.org/wp-content/uploads/2022/01/bible_event1.jpg
END:VEVENT
BEGIN:VEVENT
DTSTART;TZID=Europe/London:20240518T100000
DTEND;TZID=Europe/London:20240518T163000
DTSTAMP:20260420T185103
CREATED:20240414T155712Z
LAST-MODIFIED:20240414T155738Z
UID:10040-1716026400-1716049800@faithmission.org
SUMMARY:Ladies' Conference
DESCRIPTION:
URL:https://faithmission.org/event/ladies-conference-2/
LOCATION:Durrow Centre\, Knocknagrally\, Durrow\, R32 HX23\, Ireland
CATEGORIES:Durrow Centre,Irish Midlands District
ATTACH;FMTTYPE=image/jpeg:https://faithmission.org/wp-content/uploads/Events/FM_Web_EventGraphic_Ladies.jpg
ORGANIZER;CN="Rachel%20Tomb":MAILTO:midlands.irish@faithmission.org
END:VEVENT
BEGIN:VEVENT
DTSTART;TZID=Europe/London:20240519T183000
DTEND;TZID=Europe/London:20240519T193000
DTSTAMP:20260420T185103
CREATED:20240424T210329Z
LAST-MODIFIED:20240424T210329Z
UID:10114-1716143400-1716147000@faithmission.org
SUMMARY:Galloway Bible Rally
DESCRIPTION:
URL:https://faithmission.org/event/galloway-bible-rally/
LOCATION:Newton Stewart Centre\, High Barbuchany\, Newton Stewart\, DG8 6QF
CATEGORIES:Anglo Scottish Border District,General,Newton Stewart Centre
ATTACH;FMTTYPE=image/jpeg:https://faithmission.org/wp-content/uploads/2022/01/bible_event1.jpg
END:VEVENT
BEGIN:VEVENT
DTSTART;TZID=Europe/London:20240519T190000
DTEND;TZID=Europe/London:20240519T200000
DTSTAMP:20260420T185103
CREATED:20240415T225214Z
LAST-MODIFIED:20240415T231929Z
UID:10046-1716145200-1716148800@faithmission.org
SUMMARY:May Rallies - Irish Midlands
DESCRIPTION:Wednesday 15 May at 7.30pm – Speaker: Reuben Lyons\nSunday 19 May at 7.00pm – Speaker: Mervyn Tomb\nWednesday 22 May at 7.30pm – Speaker: Daniel Brown
URL:https://faithmission.org/event/may-rallies-irish-midlands/2024-05-19/
CATEGORIES:General,Irish Border District,Irish Midlands District
ATTACH;FMTTYPE=image/jpeg:https://faithmission.org/wp-content/uploads/2022/01/bible_event1.jpg
END:VEVENT
BEGIN:VEVENT
DTSTART;TZID=Europe/London:20240520T193000
DTEND;TZID=Europe/London:20240520T210000
DTSTAMP:20260420T185103
CREATED:20240520T091815Z
LAST-MODIFIED:20240520T091815Z
UID:10164-1716233400-1716238800@faithmission.org
SUMMARY:Walk 4 Life
DESCRIPTION:Come and enjoy a leisurely walk\, a healthy supper and hear real life stories.\nCleeenish Centre (Bellanaleck) at 7.30pm \nMonday 20 May – Marilyn Quinn “New Life in Christ” \nMonday 27 May – Ruth Foy “God’s Grace” \nEveryone Welcome
URL:https://faithmission.org/event/walk-4-life/2024-05-20/
LOCATION:Cleenish Centre\, Thornton Villas\, Killywillan\, Bellanaleck\, BT92 2BT
CATEGORIES:General,West Irish District
ATTACH;FMTTYPE=image/jpeg:https://faithmission.org/wp-content/uploads/Events/FM_Web_EventGraphic_Ftiness.jpg
END:VEVENT
BEGIN:VEVENT
DTSTART;TZID=Europe/London:20240522T193000
DTEND;TZID=Europe/London:20240522T203000
DTSTAMP:20260420T185103
CREATED:20240415T225214Z
LAST-MODIFIED:20240415T231929Z
UID:10047-1716406200-1716409800@faithmission.org
SUMMARY:May Rallies - Irish Midlands
DESCRIPTION:Wednesday 15 May at 7.30pm – Speaker: Reuben Lyons\nSunday 19 May at 7.00pm – Speaker: Mervyn Tomb\nWednesday 22 May at 7.30pm – Speaker: Daniel Brown
URL:https://faithmission.org/event/may-rallies-irish-midlands/2024-05-22/
CATEGORIES:General,Irish Border District,Irish Midlands District
ATTACH;FMTTYPE=image/jpeg:https://faithmission.org/wp-content/uploads/2022/01/bible_event1.jpg
END:VEVENT
BEGIN:VEVENT
DTSTART;TZID=Europe/London:20240524T193000
DTEND;TZID=Europe/London:20240524T210000
DTSTAMP:20260420T185103
CREATED:20240520T201239Z
LAST-MODIFIED:20240520T201239Z
UID:10192-1716579000-1716584400@faithmission.org
SUMMARY:Just 4 Ladies
DESCRIPTION:Friday 24 May at 7.30pm\nHouse of Vic-Ryn\nSoloist: Karen Lindsay\nSpeaker: Esther McMitchell (nee Hewitt)\nTheme: “Redeeming All”\nCome and bring others to this informal evening when we hear how God brings hope into every situation.\nRefreshments will be served afterwards
URL:https://faithmission.org/event/just-4-ladies-2/
LOCATION:house of Vic-Ryn\, Moira Road\, Lisburn\, BT28 2RF
CATEGORIES:Central Irish District,General
ATTACH;FMTTYPE=image/jpeg:https://faithmission.org/wp-content/uploads/Events/FM_Web_EventGraphic_Ladies.jpg
END:VEVENT
BEGIN:VEVENT
DTSTART;TZID=Europe/London:20240527T100000
DTEND;TZID=Europe/London:20240527T113000
DTSTAMP:20260420T185103
CREATED:20231002T201050Z
LAST-MODIFIED:20231002T220051Z
UID:9274-1716804000-1716809400@faithmission.org
SUMMARY:Ladies Bible Studies
DESCRIPTION:
URL:https://faithmission.org/event/ladies-bible-studies/2024-05-27/
LOCATION:Knocknagrally\, Knocknagrally\, Durrow\, Co.Laois\, R32 HX23
CATEGORIES:General,Irish Midlands District
ATTACH;FMTTYPE=image/jpeg:https://faithmission.org/wp-content/uploads/Events/FM_Web_EventGraphic_Ladies.jpg
ORGANIZER;CN="Rachel%20Tomb":MAILTO:midlands.irish@faithmission.org
END:VEVENT
BEGIN:VEVENT
DTSTART;TZID=Europe/London:20240527T193000
DTEND;TZID=Europe/London:20240527T210000
DTSTAMP:20260420T185103
CREATED:20240520T091815Z
LAST-MODIFIED:20240520T091815Z
UID:10166-1716838200-1716843600@faithmission.org
SUMMARY:Walk 4 Life
DESCRIPTION:Come and enjoy a leisurely walk\, a healthy supper and hear real life stories.\nCleeenish Centre (Bellanaleck) at 7.30pm \nMonday 20 May – Marilyn Quinn “New Life in Christ” \nMonday 27 May – Ruth Foy “God’s Grace” \nEveryone Welcome
URL:https://faithmission.org/event/walk-4-life/2024-05-27/
LOCATION:Cleenish Centre\, Thornton Villas\, Killywillan\, Bellanaleck\, BT92 2BT
CATEGORIES:General,West Irish District
ATTACH;FMTTYPE=image/jpeg:https://faithmission.org/wp-content/uploads/Events/FM_Web_EventGraphic_Ftiness.jpg
END:VEVENT
BEGIN:VEVENT
DTSTART;TZID=Europe/London:20240531T193000
DTEND;TZID=Europe/London:20240531T203000
DTSTAMP:20260420T185103
CREATED:20231031T024608Z
LAST-MODIFIED:20231031T024608Z
UID:9458-1717183800-1717187400@faithmission.org
SUMMARY:Bible Rallies - Allander
DESCRIPTION:Allander Evangelical Church\nDouglas Street\, Milngarvie\, Glasgow \n31 May at 7.30pm\nSpeaker: Simon Snodgrass \nJoin us for ministry in Word and song\nTea & Coffee served afterwards.
URL:https://faithmission.org/event/bible-rallies-allander-7/
LOCATION:Allander Evangelical Church\, Claremount Gardens\, Milngavie\, G62 6PG
CATEGORIES:General,South Scottish District
ATTACH;FMTTYPE=image/jpeg:https://faithmission.org/wp-content/uploads/2022/01/bible_event1.jpg
END:VEVENT
END:VCALENDAR